{"text_format":"3","workbook":"xlsx","n_sheets":25,"sheets":["СВОД","НАЧАЛО","1 шк ","2 шк","3 шк","4 шк","5 шк ","6 шк","7 шк","Тг","Савалеево","Кадыро","Бегишево","Н.Бишево","Поручиково","Тюгеевка","В.шипки","В.налим","Аксар","Ал.слоб","Светлое","Бухарай","Сарсаз","Чубуклы","КОНЕЦ"],"not_rendered":{"external_links":22,"comments":20},"read":"whole","date_system":"1900"}

{"sheet":"СВОД","index":0,"n_rows":21,"n_cols":14,"rows_kept":21,"merged":[[0,0,0,13],[1,0,8,0],[1,1,7,1],[1,2,7,2],[1,3,3,4],[1,5,3,6],[1,7,3,12],[1,13,7,13],[4,3,7,3],[4,4,7,4],[4,5,7,5],[4,6,7,6],[4,7,6,8],[4,9,6,10],[4,11,6,12],[20,0,20,1]]}
["Форма мониторинга \nфизической подготовленности обучающихся в сфере образования Российской Федерации"]
["№ строки","Класс","Всего обучающихся в общеобразовательных организациях","Из них с основной группой здоровья  ",null,"Количество \nсдавших тест \n(от общей численности обучающихся с основной группой здоровья)\n",null,"Уровень физической подготовленности                                      (количество сдавших тесты с основной группой здоровья)",{"$nulls":5},"Проверка данных"]
[]
[]
[{"$nulls":3},"Кол-во","%                                (от общей численности обучающихся) ","Кол-во","%","Низкий",null,"Средний",null,"Высокий"]
[]
[]
[{"$nulls":7},"Кол-во","%","Кол-во","%","Кол-во","%"]
[null,1,2,3,4,5,6,7,8,9,10,11,12,13]
[1,1,{"$f":"SUM(НАЧАЛО:КОНЕЦ!C10)","v":670},{"$f":"SUM(НАЧАЛО:КОНЕЦ!D10)","v":611},{"$f":"D10/C10","v":{"v":0.9119402985074627,"d":"91.19%"}},{"$f":"SUM(H10+J10+L10)","v":611},{"$f":"F10/D10","v":{"v":1,"d":"100.00%"}},{"$f":"SUM(НАЧАЛО:КОНЕЦ!H10)","v":142},{"$f":"H10/F10","v":{"v":0.23240589198036007,"d":"23.24%"}},{"$f":"SUM(НАЧАЛО:КОНЕЦ!J10)","v":296},{"$f":"J10/F10","v":{"v":0.4844517184942717,"d":"48.45%"}},{"$f":"SUM(НАЧАЛО:КОНЕЦ!L10)","v":173},{"$f":"L10/F10","v":{"v":0.28314238952536824,"d":"28.31%"}},{"$f":"IF((H10+J10+L10)>D10,\"ОШИБКА\",\"\")","v":""}]
[2,2,{"$f":"SUM(НАЧАЛО:КОНЕЦ!C11)","v":589},{"$f":"SUM(НАЧАЛО:КОНЕЦ!D11)","v":520},{"$f":"D11/C11","v":{"v":0.8828522920203735,"d":"88.29%"}},{"$f":"SUM(H11+J11+L11)","v":519},{"$f":"F11/D11","v":{"v":0.9980769230769231,"d":"99.81%"}},{"$f":"SUM(НАЧАЛО:КОНЕЦ!H11)","v":86},{"$f":"H11/F11","v":{"v":0.16570327552986513,"d":"16.57%"}},{"$f":"SUM(НАЧАЛО:КОНЕЦ!J11)","v":275},{"$f":"J11/F11","v":{"v":0.5298651252408478,"d":"52.99%"}},{"$f":"SUM(НАЧАЛО:КОНЕЦ!L11)","v":158},{"$f":"L11/F11","v":{"v":0.3044315992292871,"d":"30.44%"}},{"$f":"IF((H11+J11+L11)>D11,\"ОШИБКА\",\"\")","v":""}]
[3,3,{"$f":"SUM(НАЧАЛО:КОНЕЦ!C12)","v":587},{"$f":"SUM(НАЧАЛО:КОНЕЦ!D12)","v":518},{"v":0.8824531516183987,"d":"88.25%"},518,{"v":1,"d":"100.00%"},{"$f":"SUM(НАЧАЛО:КОНЕЦ!H12)","v":74},{"v":0.14285714285714285,"d":"14.29%"},{"$f":"SUM(НАЧАЛО:КОНЕЦ!J12)","v":266},{"v":0.5135135135135135,"d":"51.35%"},{"$f":"SUM(НАЧАЛО:КОНЕЦ!L12)","v":178},{"v":0.3436293436293436,"d":"34.36%"},""]
[4,4,{"$f":"SUM(НАЧАЛО:КОНЕЦ!C13)","v":554},{"$f":"SUM(НАЧАЛО:КОНЕЦ!D13)","v":488},{"v":0.8808664259927798,"d":"88.09%"},486,{"v":0.9959016393442623,"d":"99.59%"},{"$f":"SUM(НАЧАЛО:КОНЕЦ!H13)","v":84},{"v":0.1728395061728395,"d":"17.28%"},{"$f":"SUM(НАЧАЛО:КОНЕЦ!J13)","v":264},{"v":0.5432098765432098,"d":"54.32%"},{"$f":"SUM(НАЧАЛО:КОНЕЦ!L13)","v":138},{"v":0.2839506172839506,"d":"28.40%"},""]
[5,5,{"$f":"SUM(НАЧАЛО:КОНЕЦ!C14)","v":504},{"$f":"SUM(НАЧАЛО:КОНЕЦ!D14)","v":466},{"v":0.9246031746031746,"d":"92.46%"},465,{"v":0.9978540772532188,"d":"99.79%"},{"$f":"SUM(НАЧАЛО:КОНЕЦ!H14)","v":139},{"v":0.2989247311827957,"d":"29.89%"},{"$f":"SUM(НАЧАЛО:КОНЕЦ!J14)","v":228},{"v":0.49032258064516127,"d":"49.03%"},{"$f":"SUM(НАЧАЛО:КОНЕЦ!L14)","v":98},{"v":0.210752688172043,"d":"21.08%"},""]
[6,6,{"$f":"SUM(НАЧАЛО:КОНЕЦ!C15)","v":476},{"$f":"SUM(НАЧАЛО:КОНЕЦ!D15)","v":428},{"v":0.8991596638655462,"d":"89.92%"},426,{"v":0.9953271028037384,"d":"99.53%"},{"$f":"SUM(НАЧАЛО:КОНЕЦ!H15)","v":71},{"v":0.16666666666666666,"d":"16.67%"},{"$f":"SUM(НАЧАЛО:КОНЕЦ!J15)","v":254},{"v":0.596244131455399,"d":"59.62%"},{"$f":"SUM(НАЧАЛО:КОНЕЦ!L15)","v":101},{"v":0.23708920187793428,"d":"23.71%"},""]
[7,7,{"$f":"SUM(НАЧАЛО:КОНЕЦ!C16)","v":467},{"$f":"SUM(НАЧАЛО:КОНЕЦ!D16)","v":413},{"v":0.8843683083511777,"d":"88.44%"},410,{"v":0.9927360774818402,"d":"99.27%"},{"$f":"SUM(НАЧАЛО:КОНЕЦ!H16)","v":72},{"v":0.17560975609756097,"d":"17.56%"},{"$f":"SUM(НАЧАЛО:КОНЕЦ!J16)","v":206},{"v":0.5024390243902439,"d":"50.24%"},{"$f":"SUM(НАЧАЛО:КОНЕЦ!L16)","v":132},{"v":0.32195121951219513,"d":"32.20%"},""]
[8,8,{"$f":"SUM(НАЧАЛО:КОНЕЦ!C17)","v":426},{"$f":"SUM(НАЧАЛО:КОНЕЦ!D17)","v":369},{"v":0.8661971830985915,"d":"86.62%"},368,{"v":0.997289972899729,"d":"99.73%"},{"$f":"SUM(НАЧАЛО:КОНЕЦ!H17)","v":62},{"v":0.16847826086956522,"d":"16.85%"},{"$f":"SUM(НАЧАЛО:КОНЕЦ!J17)","v":204},{"v":0.5543478260869565,"d":"55.43%"},{"$f":"SUM(НАЧАЛО:КОНЕЦ!L17)","v":102},{"v":0.27717391304347827,"d":"27.72%"},""]
[9,9,{"$f":"SUM(НАЧАЛО:КОНЕЦ!C18)","v":534},{"$f":"SUM(НАЧАЛО:КОНЕЦ!D18)","v":481},{"v":0.900749063670412,"d":"90.07%"},480,{"v":0.997920997920998,"d":"99.79%"},{"$f":"SUM(НАЧАЛО:КОНЕЦ!H18)","v":87},{"v":0.18125,"d":"18.13%"},{"$f":"SUM(НАЧАЛО:КОНЕЦ!J18)","v":261},{"v":0.54375,"d":"54.38%"},{"$f":"SUM(НАЧАЛО:КОНЕЦ!L18)","v":132},{"v":0.275,"d":"27.50%"},""]
[10,10,{"$f":"SUM(НАЧАЛО:КОНЕЦ!C19)","v":166},{"$f":"SUM(НАЧАЛО:КОНЕЦ!D19)","v":151},{"v":0.9096385542168675,"d":"90.96%"},150,{"v":0.9933774834437086,"d":"99.34%"},{"$f":"SUM(НАЧАЛО:КОНЕЦ!H19)","v":26},{"v":0.17333333333333334,"d":"17.33%"},{"$f":"SUM(НАЧАЛО:КОНЕЦ!J19)","v":71},{"v":0.47333333333333333,"d":"47.33%"},{"$f":"SUM(НАЧАЛО:КОНЕЦ!L19)","v":53},{"v":0.35333333333333333,"d":"35.33%"},""]
[11,11,{"$f":"SUM(НАЧАЛО:КОНЕЦ!C20)","v":157},{"$f":"SUM(НАЧАЛО:КОНЕЦ!D20)","v":145},{"v":0.9235668789808917,"d":"92.36%"},142,{"v":0.9793103448275862,"d":"97.93%"},{"$f":"SUM(НАЧАЛО:КОНЕЦ!H20)","v":27},{"v":0.19014084507042253,"d":"19.01%"},{"$f":"SUM(НАЧАЛО:КОНЕЦ!J20)","v":57},{"v":0.4014084507042254,"d":"40.14%"},{"$f":"SUM(НАЧАЛО:КОНЕЦ!L20)","v":58},{"v":0.4084507042253521,"d":"40.85%"},""]
["Всего",null,{"$f":"SUM(C10:C20)","v":5130},{"$f":"SUM(D10:D20)","v":4590},{"v":0.8947368421052632,"d":"89.47%"},{"$f":"SUM(F10:F20)","v":4575},{"v":0.9967320261437909,"d":"99.67%"},{"$f":"SUM(H10:H20)","v":{"v":870,"d":"870.00"}},{"v":0.1901639344262295,"d":"19.02%"},{"$f":"SUM(J10:J20)","v":2382},{"v":0.520655737704918,"d":"52.07%"},{"$f":"SUM(L10:L20)","v":1323},{"v":0.28918032786885245,"d":"28.92%"},""]

{"sheet":"НАЧАЛО","index":1,"n_rows":0,"n_cols":0,"rows_kept":0,"merged":[[0,0,1048575,16383]]}

{"sheet":"1 шк ","index":2,"n_rows":21,"n_cols":14,"rows_kept":21,"merged":[[0,0,0,13],[1,0,8,0],[1,1,7,1],[1,2,7,2],[1,3,3,4],[1,5,3,6],[1,7,3,12],[1,13,7,13],[4,3,7,3],[4,4,7,4],[4,5,7,5],[4,6,7,6],[4,7,6,8],[4,9,6,10],[4,11,6,12],[20,0,20,1]]}
["Форма мониторинга \nфизической подготовленности обучающихся в сфере образования Российской Федерации"]
["№ строки","Класс","Всего обучающихся в общеобразовательной организации","Из них с основной группой здоровья  ",null,"Количество \nсдавших тест \n(от общей численности обучающихся с основной группой здоровья)\n",null,"Уровень физической подготовленности                                      (количество сдавших тесты с основной группой здоровья)",{"$nulls":5},"Проверка данных"]
[]
[]
[{"$nulls":3},"Кол-во","%                                (от общей численности обучающихся) ","Кол-во","%","Низкий",null,"Средний",null,"Высокий"]
[]
[]
[{"$nulls":7},"Кол-во","%","Кол-во","%","Кол-во","%"]
[null,1,2,3,4,5,6,7,8,9,10,11,12,13]
[1,1,48,39,{"$f":"D10/C10","v":{"v":0.8125,"d":"81.25%"}},{"$f":"SUM(H10+J10+L10)","v":39},{"$f":"F10/D10","v":{"v":1,"d":"100.00%"}},{"$f":"'[1]1 класс'!J2","v":11},{"$f":"H10/F10","v":{"v":0.28205128205128205,"d":"28.21%"}},{"$f":"'[1]1 класс'!K2","v":26},{"$f":"J10/F10","v":{"v":0.6666666666666666,"d":"66.67%"}},{"$f":"'[1]1 класс'!L2","v":2},{"$f":"L10/F10","v":{"v":0.05128205128205128,"d":"5.13%"}},{"$f":"IF((H10+J10+L10)>D10,\"ОШИБКА\",\"\")","v":""}]
[2,2,41,28,{"$f":"D11/C11","v":{"v":0.6829268292682927,"d":"68.29%"}},{"$f":"SUM(H11+J11+L11)","v":28},{"$f":"F11/D11","v":{"v":1,"d":"100.00%"}},{"$f":"'[1]2 класс'!J2","v":6},{"$f":"H11/F11","v":{"v":0.21428571428571427,"d":"21.43%"}},{"$f":"'[1]2 класс'!K2","v":18},{"$f":"J11/F11","v":{"v":0.6428571428571429,"d":"64.29%"}},{"$f":"'[1]2 класс'!L2","v":4},{"$f":"L11/F11","v":{"v":0.14285714285714285,"d":"14.29%"}},{"$f":"IF((H11+J11+L11)>D11,\"ОШИБКА\",\"\")","v":""}]
[3,3,34,34,{"v":1,"d":"100.00%"},34,{"v":1,"d":"100.00%"},{"$f":"'[1]3 класс'!J2","v":4},{"v":0.11764705882352941,"d":"11.76%"},{"$f":"'[1]3 класс'!K2","v":24},{"v":0.7058823529411765,"d":"70.59%"},{"$f":"'[1]3 класс'!L2","v":6},{"v":0.17647058823529413,"d":"17.65%"},""]
[4,4,42,40,{"v":0.9523809523809523,"d":"95.24%"},40,{"v":1,"d":"100.00%"},{"$f":"'[1]4 класс'!K2","v":3},{"v":0.075,"d":"7.50%"},{"$f":"'[1]4 класс'!L2","v":26},{"v":0.65,"d":"65.00%"},{"$f":"'[1]4 класс'!M2","v":11},{"v":0.275,"d":"27.50%"},""]
[5,5,40,31,{"v":0.775,"d":"77.50%"},31,{"v":1,"d":"100.00%"},{"$f":"'[1]5 класс'!L2","v":1},{"v":0.03225806451612903,"d":"3.23%"},{"$f":"'[1]5 класс'!M2","v":25},{"v":0.8064516129032258,"d":"80.65%"},{"$f":"'[1]5 класс'!N2","v":5},{"v":0.16129032258064516,"d":"16.13%"},""]
[6,6,41,38,{"v":0.926829268292683,"d":"92.68%"},38,{"v":1,"d":"100.00%"},{"$f":"'[1]6 класс'!L2","v":4},{"v":0.10526315789473684,"d":"10.53%"},{"$f":"'[1]6 класс'!M2","v":28},{"v":0.7368421052631579,"d":"73.68%"},{"$f":"'[1]6 класс'!N2","v":6},{"v":0.15789473684210525,"d":"15.79%"},""]
[7,7,31,27,{"v":0.8709677419354839,"d":"87.10%"},27,{"v":1,"d":"100.00%"},{"$f":"'[1]7 класс'!L2","v":1},{"v":0.037037037037037035,"d":"3.70%"},{"$f":"'[1]7 класс'!M2","v":19},{"v":0.7037037037037037,"d":"70.37%"},{"$f":"'[1]7 класс'!N2","v":7},{"v":0.25925925925925924,"d":"25.93%"},""]
[8,8,33,15,{"v":0.45454545454545453,"d":"45.45%"},15,{"v":1,"d":"100.00%"},{"$f":"'[1]8 класс'!L2","v":1},{"v":0.06666666666666667,"d":"6.67%"},{"$f":"'[1]8 класс'!M2","v":11},{"v":0.7333333333333333,"d":"73.33%"},{"$f":"'[1]8 класс'!N2","v":3},{"v":0.2,"d":"20.00%"},""]
[9,9,41,35,{"v":0.8536585365853658,"d":"85.37%"},35,{"v":1,"d":"100.00%"},{"$f":"'[1]9 класс'!L2","v":6},{"v":0.17142857142857143,"d":"17.14%"},{"$f":"'[1]9 класс'!M2","v":22},{"v":0.6285714285714286,"d":"62.86%"},{"$f":"'[1]9 класс'!N2","v":7},{"v":0.2,"d":"20.00%"},""]
[10,10,null,null,{"$error":"#DIV/0!"},0,{"$error":"#DIV/0!"},{"$f":"'[1]10 класс'!L2","v":0},{"$error":"#DIV/0!"},{"$f":"'[1]10 класс'!M2","v":0},{"$error":"#DIV/0!"},{"$f":"'[1]10 класс'!N2","v":0},{"$error":"#DIV/0!"},""]
[11,11,null,null,{"$error":"#DIV/0!"},0,{"$error":"#DIV/0!"},{"$f":"'[1]11 класс'!L2","v":0},{"$error":"#DIV/0!"},{"$f":"'[1]11 класс'!M2","v":0},{"$error":"#DIV/0!"},{"$f":"'[1]11 класс'!N2","v":0},{"$error":"#DIV/0!"},""]
["Всего",null,{"$f":"SUM(C10:C20)","v":351},{"$f":"SUM(D10:D20)","v":287},{"v":0.8176638176638177,"d":"81.77%"},{"$f":"SUM(F10:F20)","v":287},{"v":1,"d":"100.00%"},{"$f":"SUM(H10:H20)","v":37},{"v":0.1289198606271777,"d":"12.89%"},{"$f":"SUM(J10:J20)","v":199},{"v":0.6933797909407665,"d":"69.34%"},{"$f":"SUM(L10:L20)","v":51},{"v":0.17770034843205576,"d":"17.77%"},""]

{"sheet":"2 шк","index":3,"n_rows":21,"n_cols":14,"rows_kept":21,"merged":[[0,0,0,13],[1,0,8,0],[1,1,7,1],[1,2,7,2],[1,3,3,4],[1,5,3,6],[1,7,3,12],[1,13,7,13],[4,3,7,3],[4,4,7,4],[4,5,7,5],[4,6,7,6],[4,7,6,8],[4,9,6,10],[4,11,6,12],[20,0,20,1]]}
["Форма мониторинга \nфизической подготовленности обучающихся в сфере образования Российской Федерации"]
["№ строки","Класс","Всего обучающихся в общеобразовательной организации","Из них с основной группой здоровья  ",null,"Количество \nсдавших тест \n(от общей численности обучающихся с основной группой здоровья)\n",null,"Уровень физической подготовленности                                      (количество сдавших тесты с основной группой здоровья)",{"$nulls":5},"Проверка данных"]
[]
[]
[{"$nulls":3},"Кол-во","%                                (от общей численности обучающихся) ","Кол-во","%","Низкий",null,"Средний",null,"Высокий"]
[]
[]
[{"$nulls":7},"Кол-во","%","Кол-во","%","Кол-во","%"]
[null,1,2,3,4,5,6,7,8,9,10,11,12,13]
[1,1,81,60,{"$f":"D10/C10","v":{"v":0.7407407407407407,"d":"74.07%"}},{"$f":"SUM(H10+J10+L10)","v":60},{"$f":"F10/D10","v":{"v":1,"d":"100.00%"}},{"$f":"'[2]1 класс'!J2","v":30},{"$f":"H10/F10","v":{"v":0.5,"d":"50.00%"}},{"$f":"'[2]1 класс'!K2","v":23},{"$f":"J10/F10","v":{"v":0.38333333333333336,"d":"38.33%"}},{"$f":"'[2]1 класс'!L2","v":7},{"$f":"L10/F10","v":{"v":0.11666666666666667,"d":"11.67%"}},{"$f":"IF((H10+J10+L10)>D10,\"ОШИБКА\",\"\")","v":""}]
[2,2,57,49,{"$f":"D11/C11","v":{"v":0.8596491228070176,"d":"85.96%"}},{"$f":"SUM(H11+J11+L11)","v":49},{"$f":"F11/D11","v":{"v":1,"d":"100.00%"}},{"$f":"'[2]2 класс'!J2","v":19},{"$f":"H11/F11","v":{"v":0.3877551020408163,"d":"38.78%"}},{"$f":"'[2]2 класс'!K2","v":22},{"$f":"J11/F11","v":{"v":0.4489795918367347,"d":"44.90%"}},{"$f":"'[2]2 класс'!L2","v":8},{"$f":"L11/F11","v":{"v":0.16326530612244897,"d":"16.33%"}},{"$f":"IF((H11+J11+L11)>D11,\"ОШИБКА\",\"\")","v":""}]
[3,3,75,63,{"v":0.84,"d":"84.00%"},63,{"v":1,"d":"100.00%"},{"$f":"'[2]3 класс'!J2","v":20},{"v":0.31746031746031744,"d":"31.75%"},{"$f":"'[2]3 класс'!K2","v":35},{"v":0.5555555555555556,"d":"55.56%"},{"$f":"'[2]3 класс'!L2","v":8},{"v":0.12698412698412698,"d":"12.70%"},""]
[4,4,49,47,{"v":0.9591836734693877,"d":"95.92%"},47,{"v":1,"d":"100.00%"},{"$f":"'[2]4 класс'!K2","v":13},{"v":0.2765957446808511,"d":"27.66%"},{"$f":"'[2]4 класс'!L2","v":28},{"v":0.5957446808510638,"d":"59.57%"},{"$f":"'[2]4 класс'!M2","v":6},{"v":0.1276595744680851,"d":"12.77%"},""]
[5,5,49,43,{"v":0.8775510204081632,"d":"87.76%"},43,{"v":1,"d":"100.00%"},{"$f":"'[2]5 класс'!L2","v":12},{"v":0.27906976744186046,"d":"27.91%"},{"$f":"'[2]5 класс'!M2","v":18},{"v":0.4186046511627907,"d":"41.86%"},{"$f":"'[2]5 класс'!N2","v":13},{"v":0.3023255813953488,"d":"30.23%"},""]
[6,6,41,39,{"v":0.9512195121951219,"d":"95.12%"},39,{"v":1,"d":"100.00%"},{"$f":"'[2]6 класс'!L2","v":13},{"v":0.3333333333333333,"d":"33.33%"},{"$f":"'[2]6 класс'!M2","v":17},{"v":0.4358974358974359,"d":"43.59%"},{"$f":"'[2]6 класс'!N2","v":9},{"v":0.23076923076923078,"d":"23.08%"},""]
[7,7,47,41,{"v":0.8723404255319149,"d":"87.23%"},41,{"v":1,"d":"100.00%"},{"$f":"'[2]7 класс'!L2","v":17},{"v":0.4146341463414634,"d":"41.46%"},{"$f":"'[2]7 класс'!M2","v":16},{"v":0.3902439024390244,"d":"39.02%"},{"$f":"'[2]7 класс'!N2","v":8},{"v":0.1951219512195122,"d":"19.51%"},""]
[8,8,25,22,{"v":0.88,"d":"88.00%"},22,{"v":1,"d":"100.00%"},{"$f":"'[2]8 класс'!L2","v":8},{"v":0.36363636363636365,"d":"36.36%"},{"$f":"'[2]8 класс'!M2","v":8},{"v":0.36363636363636365,"d":"36.36%"},{"$f":"'[2]8 класс'!N2","v":6},{"v":0.2727272727272727,"d":"27.27%"},""]
[9,9,54,47,{"v":0.8703703703703703,"d":"87.04%"},47,{"v":1,"d":"100.00%"},{"$f":"'[2]9 класс'!L2","v":9},{"v":0.19148936170212766,"d":"19.15%"},{"$f":"'[2]9 класс'!M2","v":23},{"v":0.48936170212765956,"d":"48.94%"},{"$f":"'[2]9 класс'!N2","v":15},{"v":0.3191489361702128,"d":"31.91%"},""]
[10,10,26,20,{"v":0.7692307692307693,"d":"76.92%"},20,{"v":1,"d":"100.00%"},{"$f":"'[2]10 класс'!L2","v":5},{"v":0.25,"d":"25.00%"},{"$f":"'[2]10 класс'!M2","v":8},{"v":0.4,"d":"40.00%"},{"$f":"'[2]10 класс'!N2","v":7},{"v":0.35,"d":"35.00%"},""]
[11,11,18,17,{"v":0.9444444444444444,"d":"94.44%"},17,{"v":1,"d":"100.00%"},{"$f":"'[2]11 класс'!L2","v":4},{"v":0.23529411764705882,"d":"23.53%"},{"$f":"'[2]11 класс'!M2","v":6},{"v":0.35294117647058826,"d":"35.29%"},{"$f":"'[2]11 класс'!N2","v":7},{"v":0.4117647058823529,"d":"41.18%"},""]
["Всего",null,{"$f":"SUM(C10:C20)","v":522},{"$f":"SUM(D10:D20)","v":448},{"v":0.8582375478927203,"d":"85.82%"},{"$f":"SUM(F10:F20)","v":448},{"v":1,"d":"100.00%"},{"$f":"SUM(H10:H20)","v":150},{"v":0.33482142857142855,"d":"33.48%"},{"$f":"SUM(J10:J20)","v":204},{"v":0.45535714285714285,"d":"45.54%"},{"$f":"SUM(L10:L20)","v":94},{"v":0.20982142857142858,"d":"20.98%"},""]

{"sheet":"3 шк","index":4,"n_rows":21,"n_cols":14,"rows_kept":21,"merged":[[0,0,0,13],[1,0,8,0],[1,1,7,1],[1,2,7,2],[1,3,3,4],[1,5,3,6],[1,7,3,12],[1,13,7,13],[4,3,7,3],[4,4,7,4],[4,5,7,5],[4,6,7,6],[4,7,6,8],[4,9,6,10],[4,11,6,12],[20,0,20,1]]}
["Форма мониторинга \nфизической подготовленности обучающихся в сфере образования Российской Федерации"]
["№ строки","Класс","Всего обучающихся в общеобразовательной организации","Из них с основной группой здоровья  ",null,"Количество \nсдавших тест \n(от общей численности обучающихся с основной группой здоровья)\n",null,"Уровень физической подготовленности                                      (количество сдавших тесты с основной группой здоровья)",{"$nulls":5},"Проверка данных"]
[]
[]
[{"$nulls":3},"Кол-во","%                                (от общей численности обучающихся) ","Кол-во","%","Низкий",null,"Средний",null,"Высокий"]
[]
[]
[{"$nulls":7},"Кол-во","%","Кол-во","%","Кол-во","%"]
[null,1,2,3,4,5,6,7,8,9,10,11,12,13]
[1,1,63,58,{"$f":"D10/C10","v":{"v":0.9206349206349206,"d":"92.06%"}},{"$f":"SUM(H10+J10+L10)","v":58},{"$f":"F10/D10","v":{"v":1,"d":"100.00%"}},{"$f":"'[16]1 класс'!J2","v":5},{"$f":"H10/F10","v":{"v":0.08620689655172414,"d":"8.62%"}},{"$f":"'[16]1 класс'!K2","v":35},{"$f":"J10/F10","v":{"v":0.603448275862069,"d":"60.34%"}},{"$f":"'[16]1 класс'!L2","v":18},{"$f":"L10/F10","v":{"v":0.3103448275862069,"d":"31.03%"}},{"$f":"IF((H10+J10+L10)>D10,\"ОШИБКА\",\"\")","v":""}]
[2,2,45,39,{"$f":"D11/C11","v":{"v":0.8666666666666667,"d":"86.67%"}},{"$f":"SUM(H11+J11+L11)","v":39},{"$f":"F11/D11","v":{"v":1,"d":"100.00%"}},{"$f":"'[16]2 класс'!J2","v":3},{"$f":"H11/F11","v":{"v":0.07692307692307693,"d":"7.69%"}},{"$f":"'[16]2 класс'!K2","v":24},{"$f":"J11/F11","v":{"v":0.6153846153846154,"d":"61.54%"}},{"$f":"'[16]2 класс'!L2","v":12},{"$f":"L11/F11","v":{"v":0.3076923076923077,"d":"30.77%"}},{"$f":"IF((H11+J11+L11)>D11,\"ОШИБКА\",\"\")","v":""}]
[3,3,54,47,{"v":0.8703703703703703,"d":"87.04%"},47,{"v":1,"d":"100.00%"},{"$f":"'[16]3 класс'!J2","v":3},{"v":0.06382978723404255,"d":"6.38%"},{"$f":"'[16]3 класс'!K2","v":22},{"v":0.46808510638297873,"d":"46.81%"},{"$f":"'[16]3 класс'!L2","v":22},{"v":0.46808510638297873,"d":"46.81%"},""]
[4,4,54,49,{"v":0.9074074074074074,"d":"90.74%"},49,{"v":1,"d":"100.00%"},{"$f":"'[16]4 класс'!K2","v":13},{"v":0.2653061224489796,"d":"26.53%"},{"$f":"'[16]4 класс'!L2","v":25},{"v":0.5102040816326531,"d":"51.02%"},{"$f":"'[16]4 класс'!M2","v":11},{"v":0.22448979591836735,"d":"22.45%"},""]
[5,5,51,51,{"v":1,"d":"100.00%"},51,{"v":1,"d":"100.00%"},{"$f":"'[16]5 класс'!L2","v":9},{"v":0.17647058823529413,"d":"17.65%"},{"$f":"'[16]5 класс'!M2","v":26},{"v":0.5098039215686274,"d":"50.98%"},{"$f":"'[16]5 класс'!N2","v":16},{"v":0.3137254901960784,"d":"31.37%"},""]
[6,6,33,33,{"v":1,"d":"100.00%"},33,{"v":1,"d":"100.00%"},{"$f":"'[16]6 класс'!L2","v":4},{"v":0.12121212121212122,"d":"12.12%"},{"$f":"'[16]6 класс'!M2","v":16},{"v":0.48484848484848486,"d":"48.48%"},{"$f":"'[16]6 класс'!N2","v":13},{"v":0.3939393939393939,"d":"39.39%"},""]
[7,7,43,39,{"v":0.9069767441860465,"d":"90.70%"},39,{"v":1,"d":"100.00%"},{"$f":"'[16]7 класс'!L2","v":12},{"v":0.3076923076923077,"d":"30.77%"},{"$f":"'[16]7 класс'!M2","v":20},{"v":0.5128205128205128,"d":"51.28%"},{"$f":"'[16]7 класс'!N2","v":7},{"v":0.1794871794871795,"d":"17.95%"},""]
[8,8,45,42,{"v":0.9333333333333333,"d":"93.33%"},42,{"v":1,"d":"100.00%"},{"$f":"'[16]8 класс'!L2","v":19},{"v":0.4523809523809524,"d":"45.24%"},{"$f":"'[16]8 класс'!M2","v":14},{"v":0.3333333333333333,"d":"33.33%"},{"$f":"'[16]8 класс'!N2","v":9},{"v":0.21428571428571427,"d":"21.43%"},""]
[9,9,27,26,{"v":0.9629629629629629,"d":"96.30%"},26,{"v":1,"d":"100.00%"},{"$f":"'[16]9 класс'!L2","v":10},{"v":0.38461538461538464,"d":"38.46%"},{"$f":"'[16]9 класс'!M2","v":8},{"v":0.3076923076923077,"d":"30.77%"},{"$f":"'[16]9 класс'!N2","v":8},{"v":0.3076923076923077,"d":"30.77%"},""]
[10,10,19,18,{"v":0.9473684210526315,"d":"94.74%"},18,{"v":1,"d":"100.00%"},{"$f":"'[16]10 класс'!L2","v":6},{"v":0.3333333333333333,"d":"33.33%"},{"$f":"'[16]10 класс'!M2","v":9},{"v":0.5,"d":"50.00%"},{"$f":"'[16]10 класс'!N2","v":3},{"v":0.16666666666666666,"d":"16.67%"},""]
[11,11,15,15,{"v":1,"d":"100.00%"},15,{"v":1,"d":"100.00%"},{"$f":"'[16]11 класс'!L2","v":6},{"v":0.4,"d":"40.00%"},{"$f":"'[16]11 класс'!M2","v":7},{"v":0.4666666666666667,"d":"46.67%"},{"$f":"'[16]11 класс'!N2","v":2},{"v":0.13333333333333333,"d":"13.33%"},""]
["Всего",null,{"$f":"SUM(C10:C20)","v":449},{"$f":"SUM(D10:D20)","v":417},{"v":0.9287305122494433,"d":"92.87%"},{"$f":"SUM(F10:F20)","v":417},{"v":1,"d":"100.00%"},{"$f":"SUM(H10:H20)","v":90},{"v":0.2158273381294964,"d":"21.58%"},{"$f":"SUM(J10:J20)","v":206},{"v":0.4940047961630695,"d":"49.40%"},{"$f":"SUM(L10:L20)","v":121},{"v":0.290167865707434,"d":"29.02%"},""]

{"sheet":"4 шк","index":5,"n_rows":21,"n_cols":14,"rows_kept":21,"merged":[[0,0,0,13],[1,0,8,0],[1,1,7,1],[1,2,7,2],[1,3,3,4],[1,5,3,6],[1,7,3,12],[1,13,7,13],[4,3,7,3],[4,4,7,4],[4,5,7,5],[4,6,7,6],[4,7,6,8],[4,9,6,10],[4,11,6,12],[20,0,20,1]]}
["Форма мониторинга \nфизической подготовленности обучающихся в сфере образования Российской Федерации"]
["№ строки","Класс","Всего обучающихся в общеобразовательной организации","Из них с основной группой здоровья  ",null,"Количество \nсдавших тест \n(от общей численности обучающихся с основной группой здоровья)\n",null,"Уровень физической подготовленности                                      (количество сдавших тесты с основной группой здоровья)",{"$nulls":5},"Проверка данных"]
[]
[]
[{"$nulls":3},"Кол-во","%                                (от общей численности обучающихся) ","Кол-во","%","Низкий",null,"Средний",null,"Высокий"]
[]
[]
[{"$nulls":7},"Кол-во","%","Кол-во","%","Кол-во","%"]
[null,1,2,3,4,5,6,7,8,9,10,11,12,13]
[1,1,78,75,{"$f":"D10/C10","v":{"v":0.9615384615384616,"d":"96.15%"}},{"$f":"SUM(H10+J10+L10)","v":75},{"$f":"F10/D10","v":{"v":1,"d":"100.00%"}},{"$f":"'[17]1 класс'!J2","v":11},{"$f":"H10/F10","v":{"v":0.14666666666666667,"d":"14.67%"}},{"$f":"'[17]1 класс'!K2","v":44},{"$f":"J10/F10","v":{"v":0.5866666666666667,"d":"58.67%"}},{"$f":"'[17]1 класс'!L2","v":20},{"$f":"L10/F10","v":{"v":0.26666666666666666,"d":"26.67%"}},{"$f":"IF((H10+J10+L10)>D10,\"ОШИБКА\",\"\")","v":""}]
[2,2,59,59,{"$f":"D11/C11","v":{"v":1,"d":"100.00%"}},{"$f":"SUM(H11+J11+L11)","v":58},{"$f":"F11/D11","v":{"v":0.9830508474576272,"d":"98.31%"}},{"$f":"'[17]2 класс'!J2","v":2},{"$f":"H11/F11","v":{"v":0.034482758620689655,"d":"3.45%"}},{"$f":"'[17]2 класс'!K2","v":38},{"$f":"J11/F11","v":{"v":0.6551724137931034,"d":"65.52%"}},{"$f":"'[17]2 класс'!L2","v":18},{"$f":"L11/F11","v":{"v":0.3103448275862069,"d":"31.03%"}},{"$f":"IF((H11+J11+L11)>D11,\"ОШИБКА\",\"\")","v":""}]
[3,3,80,80,{"v":1,"d":"100.00%"},80,{"v":1,"d":"100.00%"},{"$f":"'[17]3 класс'!J2","v":11},{"v":0.1375,"d":"13.75%"},{"$f":"'[17]3 класс'!K2","v":27},{"v":0.3375,"d":"33.75%"},{"$f":"'[17]3 класс'!L2","v":42},{"v":0.525,"d":"52.50%"},""]
[4,4,51,51,{"v":1,"d":"100.00%"},49,{"v":0.9607843137254902,"d":"96.08%"},{"$f":"'[17]4 класс'!K2","v":1},{"v":0.02040816326530612,"d":"2.04%"},{"$f":"'[17]4 класс'!L2","v":23},{"v":0.46938775510204084,"d":"46.94%"},{"$f":"'[17]4 класс'!M2","v":25},{"v":0.5102040816326531,"d":"51.02%"},""]
[5,5,64,64,{"v":1,"d":"100.00%"},63,{"v":0.984375,"d":"98.44%"},{"$f":"'[17]5 класс'!L2","v":19},{"v":0.30158730158730157,"d":"30.16%"},{"$f":"'[17]5 класс'!M2","v":25},{"v":0.3968253968253968,"d":"39.68%"},{"$f":"'[17]5 класс'!N2","v":19},{"v":0.30158730158730157,"d":"30.16%"},""]
[6,6,51,51,{"v":1,"d":"100.00%"},49,{"v":0.9607843137254902,"d":"96.08%"},{"$f":"'[17]6 класс'!L2","v":1},{"v":0.02040816326530612,"d":"2.04%"},{"$f":"'[17]6 класс'!M2","v":24},{"v":0.4897959183673469,"d":"48.98%"},{"$f":"'[17]6 класс'!N2","v":24},{"v":0.4897959183673469,"d":"48.98%"},""]
[7,7,70,70,{"v":1,"d":"100.00%"},67,{"v":0.9571428571428572,"d":"95.71%"},{"$f":"'[17]7 класс'!L2","v":10},{"v":0.14925373134328357,"d":"14.93%"},{"$f":"'[17]7 класс'!M2","v":25},{"v":0.373134328358209,"d":"37.31%"},{"$f":"'[17]7 класс'!N2","v":32},{"v":0.47761194029850745,"d":"47.76%"},""]
[8,8,53,53,{"v":1,"d":"100.00%"},51,{"v":0.9622641509433962,"d":"96.23%"},{"$f":"'[17]8 класс'!L2","v":7},{"v":0.13725490196078433,"d":"13.73%"},{"$f":"'[17]8 класс'!M2","v":31},{"v":0.6078431372549019,"d":"60.78%"},{"$f":"'[17]8 класс'!N2","v":13},{"v":0.2549019607843137,"d":"25.49%"},""]
[9,9,72,72,{"v":1,"d":"100.00%"},71,{"v":0.9861111111111112,"d":"98.61%"},{"$f":"'[17]9 класс'!L2","v":25},{"v":0.352112676056338,"d":"35.21%"},{"$f":"'[17]9 класс'!M2","v":29},{"v":0.4084507042253521,"d":"40.85%"},{"$f":"'[17]9 класс'!N2","v":17},{"v":0.23943661971830985,"d":"23.94%"},""]
[10,10,22,22,{"v":1,"d":"100.00%"},21,{"v":0.9545454545454546,"d":"95.45%"},{"$f":"'[17]10 класс'!L2","v":3},{"v":0.14285714285714285,"d":"14.29%"},{"$f":"'[17]10 класс'!M2","v":13},{"v":0.6190476190476191,"d":"61.90%"},{"$f":"'[17]10 класс'!N2","v":5},{"v":0.23809523809523808,"d":"23.81%"},""]
[11,11,39,39,{"v":1,"d":"100.00%"},38,{"v":0.9743589743589743,"d":"97.44%"},{"$f":"'[17]11 класс'!L2","v":12},{"v":0.3157894736842105,"d":"31.58%"},{"$f":"'[17]11 класс'!M2","v":16},{"v":0.42105263157894735,"d":"42.11%"},{"$f":"'[17]11 класс'!N2","v":10},{"v":0.2631578947368421,"d":"26.32%"},""]
["Всего",null,{"$f":"SUM(C10:C20)","v":639},{"$f":"SUM(D10:D20)","v":636},{"v":0.9953051643192489,"d":"99.53%"},{"$f":"SUM(F10:F20)","v":622},{"v":0.9779874213836478,"d":"97.80%"},{"$f":"SUM(H10:H20)","v":102},{"v":0.1639871382636656,"d":"16.40%"},{"$f":"SUM(J10:J20)","v":295},{"v":0.4742765273311897,"d":"47.43%"},{"$f":"SUM(L10:L20)","v":225},{"v":0.3617363344051447,"d":"36.17%"},""]

{"sheet":"5 шк ","index":6,"n_rows":21,"n_cols":14,"rows_kept":21,"merged":[[0,0,0,13],[1,0,8,0],[1,1,7,1],[1,2,7,2],[1,3,3,4],[1,5,3,6],[1,7,3,12],[1,13,7,13],[4,3,7,3],[4,4,7,4],[4,5,7,5],[4,6,7,6],[4,7,6,8],[4,9,6,10],[4,11,6,12],[20,0,20,1]]}
["Форма мониторинга \nфизической подготовленности обучающихся в сфере образования Российской Федерации"]
["№ строки","Класс","Всего обучающихся в общеобразовательной организации","Из них с основной группой здоровья  ",null,"Количество \nсдавших тест \n(от общей численности обучающихся с основной группой здоровья)\n",null,"Уровень физической подготовленности                                      (количество сдавших тесты с основной группой здоровья)",{"$nulls":5},"Проверка данных"]
[]
[]
[{"$nulls":3},"Кол-во","%                                (от общей численности обучающихся) ","Кол-во","%","Низкий",null,"Средний",null,"Высокий"]
[]
[]
[{"$nulls":7},"Кол-во","%","Кол-во","%","Кол-во","%"]
[null,1,2,3,4,5,6,7,8,9,10,11,12,13]
[1,1,19,18,{"$f":"D10/C10","v":{"v":0.9473684210526315,"d":"94.74%"}},{"$f":"SUM(H10+J10+L10)","v":18},{"$f":"F10/D10","v":{"v":1,"d":"100.00%"}},{"$f":"'[18]1 класс'!J2","v":0},{"$f":"H10/F10","v":{"v":0,"d":"0.00%"}},{"$f":"'[18]1 класс'!K2","v":8},{"$f":"J10/F10","v":{"v":0.4444444444444444,"d":"44.44%"}},{"$f":"'[18]1 класс'!L2","v":10},{"$f":"L10/F10","v":{"v":0.5555555555555556,"d":"55.56%"}},{"$f":"IF((H10+J10+L10)>D10,\"ОШИБКА\",\"\")","v":""}]
[2,2,21,18,{"$f":"D11/C11","v":{"v":0.8571428571428571,"d":"85.71%"}},{"$f":"SUM(H11+J11+L11)","v":18},{"$f":"F11/D11","v":{"v":1,"d":"100.00%"}},{"$f":"'[18]2 класс'!J2","v":0},{"$f":"H11/F11","v":{"v":0,"d":"0.00%"}},{"$f":"'[18]2 класс'!K2","v":12},{"$f":"J11/F11","v":{"v":0.6666666666666666,"d":"66.67%"}},{"$f":"'[18]2 класс'!L2","v":6},{"$f":"L11/F11","v":{"v":0.3333333333333333,"d":"33.33%"}},{"$f":"IF((H11+J11+L11)>D11,\"ОШИБКА\",\"\")","v":""}]
[3,3,16,16,{"v":1,"d":"100.00%"},16,{"v":1,"d":"100.00%"},{"$f":"'[18]3 класс'!J2","v":0},{"v":0,"d":"0.00%"},{"$f":"'[18]3 класс'!K2","v":10},{"v":0.625,"d":"62.50%"},{"$f":"'[18]3 класс'!L2","v":6},{"v":0.375,"d":"37.50%"},""]
[4,4,25,16,{"v":0.64,"d":"64.00%"},16,{"v":1,"d":"100.00%"},{"$f":"'[18]4 класс'!K2","v":0},{"v":0,"d":"0.00%"},{"$f":"'[18]4 класс'!L2","v":9},{"v":0.5625,"d":"56.25%"},{"$f":"'[18]4 класс'!M2","v":7},{"v":0.4375,"d":"43.75%"},""]
[5,5,14,14,{"v":1,"d":"100.00%"},14,{"v":1,"d":"100.00%"},{"$f":"'[18]5 класс'!L2","v":0},{"v":0,"d":"0.00%"},{"$f":"'[18]5 класс'!M2","v":7},{"v":0.5,"d":"50.00%"},{"$f":"'[18]5 класс'!N2","v":7},{"v":0.5,"d":"50.00%"},""]
[6,6,14,12,{"v":0.8571428571428571,"d":"85.71%"},12,{"v":1,"d":"100.00%"},{"$f":"'[18]6 класс'!L2","v":0},{"v":0,"d":"0.00%"},{"$f":"'[18]6 класс'!M2","v":6},{"v":0.5,"d":"50.00%"},{"$f":"'[18]6 класс'!N2","v":6},{"v":0.5,"d":"50.00%"},""]
[7,7,19,13,{"v":0.6842105263157895,"d":"68.42%"},13,{"v":1,"d":"100.00%"},{"$f":"'[18]7 класс'!L2","v":0},{"v":0,"d":"0.00%"},{"$f":"'[18]7 класс'!M2","v":5},{"v":0.38461538461538464,"d":"38.46%"},{"$f":"'[18]7 класс'!N2","v":8},{"v":0.6153846153846154,"d":"61.54%"},""]
[8,8,19,19,{"v":1,"d":"100.00%"},19,{"v":1,"d":"100.00%"},{"$f":"'[18]8 класс'!L2","v":0},{"v":0,"d":"0.00%"},{"$f":"'[18]8 класс'!M2","v":8},{"v":0.42105263157894735,"d":"42.11%"},{"$f":"'[18]8 класс'!N2","v":11},{"v":0.5789473684210527,"d":"57.89%"},""]
[9,9,18,18,{"v":1,"d":"100.00%"},18,{"v":1,"d":"100.00%"},{"$f":"'[18]9 класс'!L2","v":0},{"v":0,"d":"0.00%"},{"$f":"'[18]9 класс'!M2","v":6},{"v":0.3333333333333333,"d":"33.33%"},{"$f":"'[18]9 класс'!N2","v":12},{"v":0.6666666666666666,"d":"66.67%"},""]
[10,10,null,null,{"$error":"#DIV/0!"},0,{"$error":"#DIV/0!"},{"$f":"'[18]10 класс'!L2","v":0},{"$error":"#DIV/0!"},{"$f":"'[18]10 класс'!M2","v":0},{"$error":"#DIV/0!"},{"$f":"'[18]10 класс'!N2","v":0},{"$error":"#DIV/0!"},""]
[11,11,null,null,{"$error":"#DIV/0!"},0,{"$error":"#DIV/0!"},{"$f":"'[18]11 класс'!L2","v":0},{"$error":"#DIV/0!"},{"$f":"'[18]11 класс'!M2","v":0},{"$error":"#DIV/0!"},{"$f":"'[18]11 класс'!N2","v":0},{"$error":"#DIV/0!"},""]
["Всего",null,{"$f":"SUM(C10:C20)","v":165},{"$f":"SUM(D10:D20)","v":144},{"v":0.8727272727272727,"d":"87.27%"},{"$f":"SUM(F10:F20)","v":144},{"v":1,"d":"100.00%"},{"$f":"SUM(H10:H20)","v":0},{"v":0,"d":"0.00%"},{"$f":"SUM(J10:J20)","v":71},{"v":0.4930555555555556,"d":"49.31%"},{"$f":"SUM(L10:L20)","v":73},{"v":0.5069444444444444,"d":"50.69%"},""]

{"sheet":"6 шк","index":7,"n_rows":21,"n_cols":14,"rows_kept":21,"merged":[[0,0,0,13],[1,0,8,0],[1,1,7,1],[1,2,7,2],[1,3,3,4],[1,5,3,6],[1,7,3,12],[1,13,7,13],[4,3,7,3],[4,4,7,4],[4,5,7,5],[4,6,7,6],[4,7,6,8],[4,9,6,10],[4,11,6,12],[20,0,20,1]]}
["Форма мониторинга \nфизической подготовленности обучающихся в сфере образования Российской Федерации"]
["№ строки","Класс","Всего обучающихся в общеобразовательной организации","Из них с основной группой здоровья  ",null,"Количество \nсдавших тест \n(от общей численности обучающихся с основной группой здоровья)\n",null,"Уровень физической подготовленности                                      (количество сдавших тесты с основной группой здоровья)",{"$nulls":5},"Проверка данных"]
[]
[]
[{"$nulls":3},"Кол-во","%                                (от общей численности обучающихся) ","Кол-во","%","Низкий",null,"Средний",null,"Высокий"]
[]
[]
[{"$nulls":7},"Кол-во","%","Кол-во","%","Кол-во","%"]
[null,1,2,3,4,5,6,7,8,9,10,11,12,13]
[1,1,174,159,{"$f":"D10/C10","v":{"v":0.9137931034482759,"d":"91.38%"}},{"$f":"SUM(H10+J10+L10)","v":159},{"$f":"F10/D10","v":{"v":1,"d":"100.00%"}},{"$f":"'[19]1 класс'!J2","v":6},{"$f":"H10/F10","v":{"v":0.03773584905660377,"d":"3.77%"}},{"$f":"'[19]1 класс'!K2","v":58},{"$f":"J10/F10","v":{"v":0.36477987421383645,"d":"36.48%"}},{"$f":"'[19]1 класс'!L2","v":95},{"$f":"L10/F10","v":{"v":0.5974842767295597,"d":"59.75%"}},{"$f":"IF((H10+J10+L10)>D10,\"ОШИБКА\",\"\")","v":""}]
[2,2,141,127,{"$f":"D11/C11","v":{"v":0.900709219858156,"d":"90.07%"}},{"$f":"SUM(H11+J11+L11)","v":127},{"$f":"F11/D11","v":{"v":1,"d":"100.00%"}},{"$f":"'[19]2 класс'!J2","v":3},{"$f":"H11/F11","v":{"v":0.023622047244094488,"d":"2.36%"}},{"$f":"'[19]2 класс'!K2","v":39},{"$f":"J11/F11","v":{"v":0.30708661417322836,"d":"30.71%"}},{"$f":"'[19]2 класс'!L2","v":85},{"$f":"L11/F11","v":{"v":0.6692913385826772,"d":"66.93%"}},{"$f":"IF((H11+J11+L11)>D11,\"ОШИБКА\",\"\")","v":""}]
[3,3,126,94,{"v":0.746031746031746,"d":"74.60%"},94,{"v":1,"d":"100.00%"},{"$f":"'[19]3 класс'!J2","v":1},{"v":0.010638297872340425,"d":"1.06%"},{"$f":"'[19]3 класс'!K2","v":34},{"v":0.3617021276595745,"d":"36.17%"},{"$f":"'[19]3 класс'!L2","v":59},{"v":0.6276595744680851,"d":"62.77%"},""]
[4,4,126,112,{"v":0.8888888888888888,"d":"88.89%"},112,{"v":1,"d":"100.00%"},{"$f":"'[19]4 класс'!K2","v":10},{"v":0.08928571428571429,"d":"8.93%"},{"$f":"'[19]4 класс'!L2","v":59},{"v":0.5267857142857143,"d":"52.68%"},{"$f":"'[19]4 класс'!M2","v":43},{"v":0.38392857142857145,"d":"38.39%"},""]
[5,5,116,99,{"v":0.853448275862069,"d":"85.34%"},99,{"v":1,"d":"100.00%"},{"$f":"'[19]5 класс'!L2","v":45},{"v":0.45454545454545453,"d":"45.45%"},{"$f":"'[19]5 класс'!M2","v":39},{"v":0.3939393939393939,"d":"39.39%"},{"$f":"'[19]5 класс'!N2","v":15},{"v":0.15151515151515152,"d":"15.15%"},""]
[6,6,118,96,{"v":0.8135593220338984,"d":"81.36%"},96,{"v":1,"d":"100.00%"},{"$f":"'[19]6 класс'!L2","v":11},{"v":0.11458333333333333,"d":"11.46%"},{"$f":"'[19]6 класс'!M2","v":56},{"v":0.5833333333333334,"d":"58.33%"},{"$f":"'[19]6 класс'!N2","v":29},{"v":0.3020833333333333,"d":"30.21%"},""]
[7,7,115,96,{"v":0.8347826086956521,"d":"83.48%"},96,{"v":1,"d":"100.00%"},{"$f":"'[19]7 класс'!L2","v":12},{"v":0.125,"d":"12.50%"},{"$f":"'[19]7 класс'!M2","v":43},{"v":0.4479166666666667,"d":"44.79%"},{"$f":"'[19]7 класс'!N2","v":41},{"v":0.4270833333333333,"d":"42.71%"},""]
[8,8,83,65,{"v":0.7831325301204819,"d":"78.31%"},65,{"v":1,"d":"100.00%"},{"$f":"'[19]8 класс'!L2","v":4},{"v":0.06153846153846154,"d":"6.15%"},{"$f":"'[19]8 класс'!M2","v":42},{"v":0.6461538461538462,"d":"64.62%"},{"$f":"'[19]8 класс'!N2","v":19},{"v":0.2923076923076923,"d":"29.23%"},""]
[9,9,116,96,{"v":0.8275862068965517,"d":"82.76%"},96,{"v":1,"d":"100.00%"},{"$f":"'[19]9 класс'!L2","v":8},{"v":0.08333333333333333,"d":"8.33%"},{"$f":"'[19]9 класс'!M2","v":61},{"v":0.6354166666666666,"d":"63.54%"},{"$f":"'[19]9 класс'!N2","v":27},{"v":0.28125,"d":"28.13%"},""]
[10,10,25,20,{"v":0.8,"d":"80.00%"},20,{"v":1,"d":"100.00%"},{"$f":"'[19]10 класс'!L2","v":0},{"v":0,"d":"0.00%"},{"$f":"'[19]10 класс'!M2","v":7},{"v":0.35,"d":"35.00%"},{"$f":"'[19]10 класс'!N2","v":13},{"v":0.65,"d":"65.00%"},""]
[11,11,41,35,{"v":0.8536585365853658,"d":"85.37%"},35,{"v":1,"d":"100.00%"},{"$f":"'[19]11 класс'!L2","v":0},{"v":0,"d":"0.00%"},{"$f":"'[19]11 класс'!M2","v":14},{"v":0.4,"d":"40.00%"},{"$f":"'[19]11 класс'!N2","v":21},{"v":0.6,"d":"60.00%"},""]
["Всего",null,{"$f":"SUM(C10:C20)","v":1181},{"$f":"SUM(D10:D20)","v":999},{"v":0.8458933107535986,"d":"84.59%"},{"$f":"SUM(F10:F20)","v":999},{"v":1,"d":"100.00%"},{"$f":"SUM(H10:H20)","v":100},{"v":0.1001001001001001,"d":"10.01%"},{"$f":"SUM(J10:J20)","v":452},{"v":0.45245245245245247,"d":"45.25%"},{"$f":"SUM(L10:L20)","v":447},{"v":0.44744744744744747,"d":"44.74%"},""]

{"sheet":"7 шк","index":8,"n_rows":21,"n_cols":14,"rows_kept":21,"merged":[[0,0,0,13],[1,0,8,0],[1,1,7,1],[1,2,7,2],[1,3,3,4],[1,5,3,6],[1,7,3,12],[1,13,7,13],[4,3,7,3],[4,4,7,4],[4,5,7,5],[4,6,7,6],[4,7,6,8],[4,9,6,10],[4,11,6,12],[20,0,20,1]]}
["Форма мониторинга \nфизической подготовленности обучающихся в сфере образования Российской Федерации"]
["№ строки","Класс","Всего обучающихся в общеобразовательной организации","Из них с основной группой здоровья  ",null,"Количество \nсдавших тест \n(от общей численности обучающихся с основной группой здоровья)\n",null,"Уровень физической подготовленности                                      (количество сдавших тесты с основной группой здоровья)",{"$nulls":5},"Проверка данных"]
[]
[]
[{"$nulls":3},"Кол-во","%                                (от общей численности обучающихся) ","Кол-во","%","Низкий",null,"Средний",null,"Высокий"]
[]
[]
[{"$nulls":7},"Кол-во","%","Кол-во","%","Кол-во","%"]
[null,1,2,3,4,5,6,7,8,9,10,11,12,13]
[1,1,83,81,{"$f":"D10/C10","v":{"v":0.9759036144578314,"d":"97.59%"}},{"$f":"SUM(H10+J10+L10)","v":81},{"$f":"F10/D10","v":{"v":1,"d":"100.00%"}},{"$f":"'[3]1 класс'!J2","v":46},{"$f":"H10/F10","v":{"v":0.5679012345679012,"d":"56.79%"}},{"$f":"'[3]1 класс'!K2","v":34},{"$f":"J10/F10","v":{"v":0.41975308641975306,"d":"41.98%"}},{"$f":"'[3]1 класс'!L2","v":1},{"$f":"L10/F10","v":{"v":0.012345679012345678,"d":"1.23%"}},{"$f":"IF((H10+J10+L10)>D10,\"ОШИБКА\",\"\")","v":""}]
[2,2,112,108,{"$f":"D11/C11","v":{"v":0.9642857142857143,"d":"96.43%"}},{"$f":"SUM(H11+J11+L11)","v":108},{"$f":"F11/D11","v":{"v":1,"d":"100.00%"}},{"$f":"'[3]2 класс'!J2","v":32},{"$f":"H11/F11","v":{"v":0.2962962962962963,"d":"29.63%"}},{"$f":"'[3]2 класс'!K2","v":64},{"$f":"J11/F11","v":{"v":0.5925925925925926,"d":"59.26%"}},{"$f":"'[3]2 класс'!L2","v":12},{"$f":"L11/F11","v":{"v":0.1111111111111111,"d":"11.11%"}},{"$f":"IF((H11+J11+L11)>D11,\"ОШИБКА\",\"\")","v":""}]
[3,3,86,78,{"v":0.9069767441860465,"d":"90.70%"},78,{"v":1,"d":"100.00%"},{"$f":"'[3]3 класс'!J2","v":11},{"v":0.14102564102564102,"d":"14.10%"},{"$f":"'[3]3 класс'!K2","v":45},{"v":0.5769230769230769,"d":"57.69%"},{"$f":"'[3]3 класс'!L2","v":22},{"v":0.28205128205128205,"d":"28.21%"},""]
[4,4,82,76,{"v":0.926829268292683,"d":"92.68%"},76,{"v":1,"d":"100.00%"},{"$f":"'[3]4 класс'!K2","v":15},{"v":0.19736842105263158,"d":"19.74%"},{"$f":"'[3]4 класс'!L2","v":42},{"v":0.5526315789473685,"d":"55.26%"},{"$f":"'[3]4 класс'!M2","v":19},{"v":0.25,"d":"25.00%"},""]
[5,5,45,43,{"v":0.9555555555555556,"d":"95.56%"},43,{"v":1,"d":"100.00%"},{"$f":"'[3]5 класс'!L2","v":15},{"v":0.3488372093023256,"d":"34.88%"},{"$f":"'[3]5 класс'!M2","v":26},{"v":0.6046511627906976,"d":"60.47%"},{"$f":"'[3]5 класс'!N2","v":2},{"v":0.046511627906976744,"d":"4.65%"},""]
[6,6,70,64,{"v":0.9142857142857143,"d":"91.43%"},64,{"v":1,"d":"100.00%"},{"$f":"'[3]6 класс'!L2","v":17},{"v":0.265625,"d":"26.56%"},{"$f":"'[3]6 класс'!M2","v":41},{"v":0.640625,"d":"64.06%"},{"$f":"'[3]6 класс'!N2","v":6},{"v":0.09375,"d":"9.38%"},""]
[7,7,46,44,{"v":0.9565217391304348,"d":"95.65%"},44,{"v":1,"d":"100.00%"},{"$f":"'[3]7 класс'!L2","v":8},{"v":0.18181818181818182,"d":"18.18%"},{"$f":"'[3]7 класс'!M2","v":27},{"v":0.6136363636363636,"d":"61.36%"},{"$f":"'[3]7 класс'!N2","v":9},{"v":0.20454545454545456,"d":"20.45%"},""]
[8,8,52,46,{"v":0.8846153846153846,"d":"88.46%"},46,{"v":1,"d":"100.00%"},{"$f":"'[3]8 класс'!L2","v":6},{"v":0.13043478260869565,"d":"13.04%"},{"$f":"'[3]8 класс'!M2","v":26},{"v":0.5652173913043478,"d":"56.52%"},{"$f":"'[3]8 класс'!N2","v":14},{"v":0.30434782608695654,"d":"30.43%"},""]
[9,9,61,53,{"v":0.8688524590163934,"d":"86.89%"},53,{"v":1,"d":"100.00%"},{"$f":"'[3]9 класс'!L2","v":3},{"v":0.05660377358490566,"d":"5.66%"},{"$f":"'[3]9 класс'!M2","v":34},{"v":0.6415094339622641,"d":"64.15%"},{"$f":"'[3]9 класс'!N2","v":16},{"v":0.3018867924528302,"d":"30.19%"},""]
[10,10,34,32,{"v":0.9411764705882353,"d":"94.12%"},32,{"v":1,"d":"100.00%"},{"$f":"'[3]10 класс'!L2","v":1},{"v":0.03125,"d":"3.13%"},{"$f":"'[3]10 класс'!M2","v":22},{"v":0.6875,"d":"68.75%"},{"$f":"'[3]10 класс'!N2","v":9},{"v":0.28125,"d":"28.13%"},""]
[11,11,14,11,{"v":0.7857142857142857,"d":"78.57%"},11,{"v":1,"d":"100.00%"},{"$f":"'[3]11 класс'!L2","v":1},{"v":0.09090909090909091,"d":"9.09%"},{"$f":"'[3]11 класс'!M2","v":6},{"v":0.5454545454545454,"d":"54.55%"},{"$f":"'[3]11 класс'!N2","v":4},{"v":0.36363636363636365,"d":"36.36%"},""]
["Всего",null,{"$f":"SUM(C10:C20)","v":685},{"$f":"SUM(D10:D20)","v":636},{"v":0.9284671532846716,"d":"92.85%"},{"$f":"SUM(F10:F20)","v":636},{"v":1,"d":"100.00%"},{"$f":"SUM(H10:H20)","v":155},{"v":0.24371069182389937,"d":"24.37%"},{"$f":"SUM(J10:J20)","v":367},{"v":0.5770440251572327,"d":"57.70%"},{"$f":"SUM(L10:L20)","v":114},{"v":0.1792452830188679,"d":"17.92%"},""]

{"sheet":"Тг","index":9,"n_rows":21,"n_cols":14,"rows_kept":21,"merged":[[0,0,0,13],[1,0,8,0],[1,1,7,1],[1,2,7,2],[1,3,3,4],[1,5,3,6],[1,7,3,12],[1,13,7,13],[4,3,7,3],[4,4,7,4],[4,5,7,5],[4,6,7,6],[4,7,6,8],[4,9,6,10],[4,11,6,12],[20,0,20,1]]}
["Форма мониторинга \nфизической подготовленности обучающихся в сфере образования Российской Федерации"]
["№ строки","Класс","Всего обучающихся в общеобразовательной организации","Из них с основной группой здоровья  ",null,"Количество \nсдавших тест \n(от общей численности обучающихся с основной группой здоровья)\n",null,"Уровень физической подготовленности                                      (количество сдавших тесты с основной группой здоровья)",{"$nulls":5},"Проверка данных"]
[]
[]
[{"$nulls":3},"Кол-во","%                                (от общей численности обучающихся) ","Кол-во","%","Низкий",null,"Средний",null,"Высокий"]
[]
[]
[{"$nulls":7},"Кол-во","%","Кол-во","%","Кол-во","%"]
[null,1,2,3,4,5,6,7,8,9,10,11,12,13]
[1,1,43,42,{"$f":"D10/C10","v":{"v":0.9767441860465116,"d":"97.67%"}},{"$f":"SUM(H10+J10+L10)","v":42},{"$f":"F10/D10","v":{"v":1,"d":"100.00%"}},{"$f":"'[4]1 класс'!J2","v":15},{"$f":"H10/F10","v":{"v":0.35714285714285715,"d":"35.71%"}},{"$f":"'[4]1 класс'!K2","v":15},{"$f":"J10/F10","v":{"v":0.35714285714285715,"d":"35.71%"}},{"$f":"'[4]1 класс'!L2","v":12},{"$f":"L10/F10","v":{"v":0.2857142857142857,"d":"28.57%"}},{"$f":"IF((H10+J10+L10)>D10,\"ОШИБКА\",\"\")","v":""}]
[2,2,35,20,{"$f":"D11/C11","v":{"v":0.5714285714285714,"d":"57.14%"}},{"$f":"SUM(H11+J11+L11)","v":20},{"$f":"F11/D11","v":{"v":1,"d":"100.00%"}},{"$f":"'[4]2 класс'!J2","v":5},{"$f":"H11/F11","v":{"v":0.25,"d":"25.00%"}},{"$f":"'[4]2 класс'!K2","v":14},{"$f":"J11/F11","v":{"v":0.7,"d":"70.00%"}},{"$f":"'[4]2 класс'!L2","v":1},{"$f":"L11/F11","v":{"v":0.05,"d":"5.00%"}},{"$f":"IF((H11+J11+L11)>D11,\"ОШИБКА\",\"\")","v":""}]
[3,3,46,41,{"v":0.8913043478260869,"d":"89.13%"},41,{"v":1,"d":"100.00%"},{"$f":"'[4]3 класс'!J2","v":8},{"v":0.1951219512195122,"d":"19.51%"},{"$f":"'[4]3 класс'!K2","v":27},{"v":0.6585365853658537,"d":"65.85%"},{"$f":"'[4]3 класс'!L2","v":6},{"v":0.14634146341463414,"d":"14.63%"},""]
[4,4,39,18,{"v":0.46153846153846156,"d":"46.15%"},18,{"v":1,"d":"100.00%"},{"$f":"'[4]4 класс'!K2","v":11},{"v":0.6111111111111112,"d":"61.11%"},{"$f":"'[4]4 класс'!L2","v":4},{"v":0.2222222222222222,"d":"22.22%"},{"$f":"'[4]4 класс'!M2","v":3},{"v":0.16666666666666666,"d":"16.67%"},""]
[5,5,39,39,{"v":1,"d":"100.00%"},39,{"v":1,"d":"100.00%"},{"$f":"'[4]5 класс'!L2","v":19},{"v":0.48717948717948717,"d":"48.72%"},{"$f":"'[4]5 класс'!M2","v":14},{"v":0.358974358974359,"d":"35.90%"},{"$f":"'[4]5 класс'!N2","v":6},{"v":0.15384615384615385,"d":"15.38%"},""]
[6,6,32,25,{"v":0.78125,"d":"78.13%"},25,{"v":1,"d":"100.00%"},{"$f":"'[4]6 класс'!L2","v":6},{"v":0.24,"d":"24.00%"},{"$f":"'[4]6 класс'!M2","v":17},{"v":0.68,"d":"68.00%"},{"$f":"'[4]6 класс'!N2","v":2},{"v":0.08,"d":"8.00%"},""]
[7,7,26,20,{"v":0.7692307692307693,"d":"76.92%"},20,{"v":1,"d":"100.00%"},{"$f":"'[4]7 класс'!L2","v":5},{"v":0.25,"d":"25.00%"},{"$f":"'[4]7 класс'!M2","v":13},{"v":0.65,"d":"65.00%"},{"$f":"'[4]7 класс'!N2","v":2},{"v":0.1,"d":"10.00%"},""]
[8,8,25,22,{"v":0.88,"d":"88.00%"},22,{"v":1,"d":"100.00%"},{"$f":"'[4]8 класс'!L2","v":3},{"v":0.13636363636363635,"d":"13.64%"},{"$f":"'[4]8 класс'!M2","v":17},{"v":0.7727272727272727,"d":"77.27%"},{"$f":"'[4]8 класс'!N2","v":2},{"v":0.09090909090909091,"d":"9.09%"},""]
[9,9,37,30,{"v":0.8108108108108109,"d":"81.08%"},30,{"v":1,"d":"100.00%"},{"$f":"'[4]9 класс'!L2","v":4},{"v":0.13333333333333333,"d":"13.33%"},{"$f":"'[4]9 класс'!M2","v":20},{"v":0.6666666666666666,"d":"66.67%"},{"$f":"'[4]9 класс'!N2","v":6},{"v":0.2,"d":"20.00%"},""]
[10,10,19,19,{"v":1,"d":"100.00%"},19,{"v":1,"d":"100.00%"},{"$f":"'[4]10 класс'!L2","v":10},{"v":0.5263157894736842,"d":"52.63%"},{"$f":"'[4]10 класс'!M2","v":5},{"v":0.2631578947368421,"d":"26.32%"},{"$f":"'[4]10 класс'!N2","v":4},{"v":0.21052631578947367,"d":"21.05%"},""]
[11,11,10,10,{"v":1,"d":"100.00%"},8,{"v":0.8,"d":"80.00%"},{"$f":"'[4]11 класс'!L2","v":4},{"v":0.5,"d":"50.00%"},{"$f":"'[4]11 класс'!M2","v":2},{"v":0.25,"d":"25.00%"},{"$f":"'[4]11 класс'!N2","v":2},{"v":0.25,"d":"25.00%"},""]
["Всего",null,{"$f":"SUM(C10:C20)","v":351},{"$f":"SUM(D10:D20)","v":286},{"v":0.8148148148148148,"d":"81.48%"},{"$f":"SUM(F10:F20)","v":284},{"v":0.993006993006993,"d":"99.30%"},{"$f":"SUM(H10:H20)","v":90},{"v":0.31690140845070425,"d":"31.69%"},{"$f":"SUM(J10:J20)","v":148},{"v":0.5211267605633803,"d":"52.11%"},{"$f":"SUM(L10:L20)","v":46},{"v":0.1619718309859155,"d":"16.20%"},""]

{"sheet":"Савалеево","index":10,"n_rows":21,"n_cols":14,"rows_kept":21,"merged":[[0,0,0,13],[1,0,8,0],[1,1,7,1],[1,2,7,2],[1,3,3,4],[1,5,3,6],[1,7,3,12],[1,13,7,13],[4,3,7,3],[4,4,7,4],[4,5,7,5],[4,6,7,6],[4,7,6,8],[4,9,6,10],[4,11,6,12],[20,0,20,1]]}
["Форма мониторинга \nфизической подготовленности обучающихся в сфере образования Российской Федерации"]
["№ строки","Класс","Всего обучающихся в общеобразовательной организации","Из них с основной группой здоровья  ",null,"Количество \nсдавших тест \n(от общей численности обучающихся с основной группой здоровья)\n",null,"Уровень физической подготовленности                                      (количество сдавших тесты с основной группой здоровья)",{"$nulls":5},"Проверка данных"]
[]
[]
[{"$nulls":3},"Кол-во","%                                (от общей численности обучающихся) ","Кол-во","%","Низкий",null,"Средний",null,"Высокий"]
[]
[]
[{"$nulls":7},"Кол-во","%","Кол-во","%","Кол-во","%"]
[null,1,2,3,4,5,6,7,8,9,10,11,12,13]
[1,1,15,15,{"$f":"D10/C10","v":{"v":1,"d":"100.00%"}},{"$f":"SUM(H10+J10+L10)","v":15},{"$f":"F10/D10","v":{"v":1,"d":"100.00%"}},{"$f":"'[14]1 класс'!J2","v":9},{"$f":"H10/F10","v":{"v":0.6,"d":"60.00%"}},{"$f":"'[14]1 класс'!K2","v":3},{"$f":"J10/F10","v":{"v":0.2,"d":"20.00%"}},{"$f":"'[14]1 класс'!L2","v":3},{"$f":"L10/F10","v":{"v":0.2,"d":"20.00%"}},{"$f":"IF((H10+J10+L10)>D10,\"ОШИБКА\",\"\")","v":""}]
[2,2,10,9,{"$f":"D11/C11","v":{"v":0.9,"d":"90.00%"}},{"$f":"SUM(H11+J11+L11)","v":9},{"$f":"F11/D11","v":{"v":1,"d":"100.00%"}},{"$f":"'[14]2 класс'!J2","v":5},{"$f":"H11/F11","v":{"v":0.5555555555555556,"d":"55.56%"}},{"$f":"'[14]2 класс'!K2","v":3},{"$f":"J11/F11","v":{"v":0.3333333333333333,"d":"33.33%"}},{"$f":"'[14]2 класс'!L2","v":1},{"$f":"L11/F11","v":{"v":0.1111111111111111,"d":"11.11%"}},{"$f":"IF((H11+J11+L11)>D11,\"ОШИБКА\",\"\")","v":""}]
[3,3,8,7,{"v":0.875,"d":"87.50%"},7,{"v":1,"d":"100.00%"},{"$f":"'[14]3 класс'!J2","v":2},{"v":0.2857142857142857,"d":"28.57%"},{"$f":"'[14]3 класс'!K2","v":5},{"v":0.7142857142857143,"d":"71.43%"},{"$f":"'[14]3 класс'!L2","v":0},{"v":0,"d":"0.00%"},""]
[4,4,14,13,{"v":0.9285714285714286,"d":"92.86%"},13,{"v":1,"d":"100.00%"},{"$f":"'[14]4 класс'!K2","v":1},{"v":0.07692307692307693,"d":"7.69%"},{"$f":"'[14]4 класс'!L2","v":8},{"v":0.6153846153846154,"d":"61.54%"},{"$f":"'[14]4 класс'!M2","v":4},{"v":0.3076923076923077,"d":"30.77%"},""]
[5,5,15,13,{"v":0.8666666666666667,"d":"86.67%"},13,{"v":1,"d":"100.00%"},{"$f":"'[14]5 класс'!L2","v":4},{"v":0.3076923076923077,"d":"30.77%"},{"$f":"'[14]5 класс'!M2","v":8},{"v":0.6153846153846154,"d":"61.54%"},{"$f":"'[14]5 класс'!N2","v":1},{"v":0.07692307692307693,"d":"7.69%"},""]
[6,6,12,12,{"v":1,"d":"100.00%"},12,{"v":1,"d":"100.00%"},{"$f":"'[14]6 класс'!L2","v":1},{"v":0.08333333333333333,"d":"8.33%"},{"$f":"'[14]6 класс'!M2","v":8},{"v":0.6666666666666666,"d":"66.67%"},{"$f":"'[14]6 класс'!N2","v":3},{"v":0.25,"d":"25.00%"},""]
[7,7,7,6,{"v":0.8571428571428571,"d":"85.71%"},6,{"v":1,"d":"100.00%"},{"$f":"'[14]7 класс'!L2","v":2},{"v":0.3333333333333333,"d":"33.33%"},{"$f":"'[14]7 класс'!M2","v":3},{"v":0.5,"d":"50.00%"},{"$f":"'[14]7 класс'!N2","v":1},{"v":0.16666666666666666,"d":"16.67%"},""]
[8,8,5,5,{"v":1,"d":"100.00%"},5,{"v":1,"d":"100.00%"},{"$f":"'[14]8 класс'!L2","v":2},{"v":0.4,"d":"40.00%"},{"$f":"'[14]8 класс'!M2","v":2},{"v":0.4,"d":"40.00%"},{"$f":"'[14]8 класс'!N2","v":1},{"v":0.2,"d":"20.00%"},""]
[9,9,16,16,{"v":1,"d":"100.00%"},16,{"v":1,"d":"100.00%"},{"$f":"'[14]9 класс'!L2","v":3},{"v":0.1875,"d":"18.75%"},{"$f":"'[14]9 класс'!M2","v":6},{"v":0.375,"d":"37.50%"},{"$f":"'[14]9 класс'!N2","v":7},{"v":0.4375,"d":"43.75%"},""]
[10,10,5,5,{"v":1,"d":"100.00%"},5,{"v":1,"d":"100.00%"},{"$f":"'[14]10 класс'!L2","v":0},{"v":0,"d":"0.00%"},{"$f":"'[14]10 класс'!M2","v":1},{"v":0.2,"d":"20.00%"},{"$f":"'[14]10 класс'!N2","v":4},{"v":0.8,"d":"80.00%"},""]
[11,11,4,3,{"v":0.75,"d":"75.00%"},3,{"v":1,"d":"100.00%"},{"$f":"'[14]11 класс'!L2","v":0},{"v":0,"d":"0.00%"},{"$f":"'[14]11 класс'!M2","v":1},{"v":0.3333333333333333,"d":"33.33%"},{"$f":"'[14]11 класс'!N2","v":2},{"v":0.6666666666666666,"d":"66.67%"},""]
["Всего",null,{"$f":"SUM(C10:C20)","v":111},{"$f":"SUM(D10:D20)","v":104},{"v":0.9369369369369369,"d":"93.69%"},{"$f":"SUM(F10:F20)","v":104},{"v":1,"d":"100.00%"},{"$f":"SUM(H10:H20)","v":29},{"v":0.27884615384615385,"d":"27.88%"},{"$f":"SUM(J10:J20)","v":48},{"v":0.46153846153846156,"d":"46.15%"},{"$f":"SUM(L10:L20)","v":27},{"v":0.25961538461538464,"d":"25.96%"},""]

{"sheet":"Кадыро","index":11,"n_rows":21,"n_cols":14,"rows_kept":21,"merged":[[0,0,0,13],[1,0,8,0],[1,1,7,1],[1,2,7,2],[1,3,3,4],[1,5,3,6],[1,7,3,12],[1,13,7,13],[4,3,7,3],[4,4,7,4],[4,5,7,5],[4,6,7,6],[4,7,6,8],[4,9,6,10],[4,11,6,12],[20,0,20,1]]}
["Форма мониторинга \nфизической подготовленности обучающихся в сфере образования Российской Федерации"]
["№ строки","Класс","Всего обучающихся в общеобразовательной организации","Из них с основной группой здоровья  ",null,"Количество \nсдавших тест \n(от общей численности обучающихся с основной группой здоровья)\n",null,"Уровень физической подготовленности                                      (количество сдавших тесты с основной группой здоровья)",{"$nulls":5},"Проверка данных"]
[]
[]
[{"$nulls":3},"Кол-во","%                                (от общей численности обучающихся) ","Кол-во","%","Низкий",null,"Средний",null,"Высокий"]
[]
[]
[{"$nulls":7},"Кол-во","%","Кол-во","%","Кол-во","%"]
[null,1,2,3,4,5,6,7,8,9,10,11,12,13]
[1,1,12,12,{"$f":"D10/C10","v":{"v":1,"d":"100.00%"}},{"$f":"SUM(H10+J10+L10)","v":12},{"$f":"F10/D10","v":{"v":1,"d":"100.00%"}},{"$f":"'[5]1 класс'!J2","v":0},{"$f":"H10/F10","v":{"v":0,"d":"0.00%"}},{"$f":"'[5]1 класс'!K2","v":11},{"$f":"J10/F10","v":{"v":0.9166666666666666,"d":"91.67%"}},{"$f":"'[5]1 класс'!L2","v":1},{"$f":"L10/F10","v":{"v":0.08333333333333333,"d":"8.33%"}},{"$f":"IF((H10+J10+L10)>D10,\"ОШИБКА\",\"\")","v":""}]
[2,2,5,4,{"$f":"D11/C11","v":{"v":0.8,"d":"80.00%"}},{"$f":"SUM(H11+J11+L11)","v":4},{"$f":"F11/D11","v":{"v":1,"d":"100.00%"}},{"$f":"'[5]2 класс'!J2","v":0},{"$f":"H11/F11","v":{"v":0,"d":"0.00%"}},{"$f":"'[5]2 класс'!K2","v":2},{"$f":"J11/F11","v":{"v":0.5,"d":"50.00%"}},{"$f":"'[5]2 класс'!L2","v":2},{"$f":"L11/F11","v":{"v":0.5,"d":"50.00%"}},{"$f":"IF((H11+J11+L11)>D11,\"ОШИБКА\",\"\")","v":""}]
[3,3,11,11,{"v":1,"d":"100.00%"},11,{"v":1,"d":"100.00%"},{"$f":"'[5]3 класс'!J2","v":0},{"v":0,"d":"0.00%"},{"$f":"'[5]3 класс'!K2","v":8},{"v":0.7272727272727273,"d":"72.73%"},{"$f":"'[5]3 класс'!L2","v":3},{"v":0.2727272727272727,"d":"27.27%"},""]
[4,4,7,7,{"v":1,"d":"100.00%"},7,{"v":1,"d":"100.00%"},{"$f":"'[5]4 класс'!K2","v":1},{"v":0.14285714285714285,"d":"14.29%"},{"$f":"'[5]4 класс'!L2","v":4},{"v":0.5714285714285714,"d":"57.14%"},{"$f":"'[5]4 класс'!M2","v":2},{"v":0.2857142857142857,"d":"28.57%"},""]
[5,5,14,14,{"v":1,"d":"100.00%"},14,{"v":1,"d":"100.00%"},{"$f":"'[5]5 класс'!L2","v":1},{"v":0.07142857142857142,"d":"7.14%"},{"$f":"'[5]5 класс'!M2","v":9},{"v":0.6428571428571429,"d":"64.29%"},{"$f":"'[5]5 класс'!N2","v":4},{"v":0.2857142857142857,"d":"28.57%"},""]
[6,6,9,9,{"v":1,"d":"100.00%"},9,{"v":1,"d":"100.00%"},{"$f":"'[5]6 класс'!L2","v":1},{"v":0.1111111111111111,"d":"11.11%"},{"$f":"'[5]6 класс'!M2","v":7},{"v":0.7777777777777778,"d":"77.78%"},{"$f":"'[5]6 класс'!N2","v":1},{"v":0.1111111111111111,"d":"11.11%"},""]
[7,7,10,9,{"v":0.9,"d":"90.00%"},9,{"v":1,"d":"100.00%"},{"$f":"'[5]7 класс'!L2","v":0},{"v":0,"d":"0.00%"},{"$f":"'[5]7 класс'!M2","v":5},{"v":0.5555555555555556,"d":"55.56%"},{"$f":"'[5]7 класс'!N2","v":4},{"v":0.4444444444444444,"d":"44.44%"},""]
[8,8,9,9,{"v":1,"d":"100.00%"},9,{"v":1,"d":"100.00%"},{"$f":"'[5]8 класс'!L2","v":0},{"v":0,"d":"0.00%"},{"$f":"'[5]8 класс'!M2","v":5},{"v":0.5555555555555556,"d":"55.56%"},{"$f":"'[5]8 класс'!N2","v":4},{"v":0.4444444444444444,"d":"44.44%"},""]
[9,9,9,9,{"v":1,"d":"100.00%"},9,{"v":1,"d":"100.00%"},{"$f":"'[5]9 класс'!L2","v":2},{"v":0.2222222222222222,"d":"22.22%"},{"$f":"'[5]9 класс'!M2","v":6},{"v":0.6666666666666666,"d":"66.67%"},{"$f":"'[5]9 класс'!N2","v":1},{"v":0.1111111111111111,"d":"11.11%"},""]
[10,10,5,4,{"v":0.8,"d":"80.00%"},4,{"v":1,"d":"100.00%"},{"$f":"'[5]10 класс'!L2","v":0},{"v":0,"d":"0.00%"},{"$f":"'[5]10 класс'!M2","v":2},{"v":0.5,"d":"50.00%"},{"$f":"'[5]10 класс'!N2","v":2},{"v":0.5,"d":"50.00%"},""]
[11,11,6,5,{"v":0.8333333333333334,"d":"83.33%"},5,{"v":1,"d":"100.00%"},{"$f":"'[5]11 класс'!L2","v":0},{"v":0,"d":"0.00%"},{"$f":"'[5]11 класс'!M2","v":2},{"v":0.4,"d":"40.00%"},{"$f":"'[5]11 класс'!N2","v":3},{"v":0.6,"d":"60.00%"},""]
["Всего",null,{"$f":"SUM(C10:C20)","v":97},{"$f":"SUM(D10:D20)","v":93},{"v":0.9587628865979382,"d":"95.88%"},{"$f":"SUM(F10:F20)","v":93},{"v":1,"d":"100.00%"},{"$f":"SUM(H10:H20)","v":5},{"v":0.053763440860215055,"d":"5.38%"},{"$f":"SUM(J10:J20)","v":61},{"v":0.6559139784946236,"d":"65.59%"},{"$f":"SUM(L10:L20)","v":27},{"v":0.2903225806451613,"d":"29.03%"},""]

{"sheet":"Бегишево","index":12,"n_rows":21,"n_cols":14,"rows_kept":21,"merged":[[0,0,0,13],[1,0,8,0],[1,1,7,1],[1,2,7,2],[1,3,3,4],[1,5,3,6],[1,7,3,12],[1,13,7,13],[4,3,7,3],[4,4,7,4],[4,5,7,5],[4,6,7,6],[4,7,6,8],[4,9,6,10],[4,11,6,12],[20,0,20,1]]}
["Форма мониторинга \nфизической подготовленности обучающихся в сфере образования Российской Федерации"]
["№ строки","Класс","Всего обучающихся в общеобразовательной организации","Из них с основной группой здоровья  ",null,"Количество \nсдавших тест \n(от общей численности обучающихся с основной группой здоровья)\n",null,"Уровень физической подготовленности                                      (количество сдавших тесты с основной группой здоровья)",{"$nulls":5},"Проверка данных"]
[]
[]
[{"$nulls":3},"Кол-во","%                                (от общей численности обучающихся) ","Кол-во","%","Низкий",null,"Средний",null,"Высокий"]
[]
[]
[{"$nulls":7},"Кол-во","%","Кол-во","%","Кол-во","%"]
[null,1,2,3,4,5,6,7,8,9,10,11,12,13]
[1,1,7,7,{"$f":"D10/C10","v":{"v":1,"d":"100.00%"}},{"$f":"SUM(H10+J10+L10)","v":7},{"$f":"F10/D10","v":{"v":1,"d":"100.00%"}},{"$f":"'[22]1 класс'!J2","v":0},{"$f":"H10/F10","v":{"v":0,"d":"0.00%"}},{"$f":"'[22]1 класс'!K2","v":6},{"$f":"J10/F10","v":{"v":0.8571428571428571,"d":"85.71%"}},{"$f":"'[22]1 класс'!L2","v":1},{"$f":"L10/F10","v":{"v":0.14285714285714285,"d":"14.29%"}},{"$f":"IF((H10+J10+L10)>D10,\"ОШИБКА\",\"\")","v":""}]
[2,2,2,2,{"$f":"D11/C11","v":{"v":1,"d":"100.00%"}},{"$f":"SUM(H11+J11+L11)","v":2},{"$f":"F11/D11","v":{"v":1,"d":"100.00%"}},{"$f":"'[22]2 класс'!J2","v":0},{"$f":"H11/F11","v":{"v":0,"d":"0.00%"}},{"$f":"'[22]2 класс'!K2","v":1},{"$f":"J11/F11","v":{"v":0.5,"d":"50.00%"}},{"$f":"'[22]2 класс'!L2","v":1},{"$f":"L11/F11","v":{"v":0.5,"d":"50.00%"}},{"$f":"IF((H11+J11+L11)>D11,\"ОШИБКА\",\"\")","v":""}]
[3,3,0,0,{"$error":"#DIV/0!"},0,{"$error":"#DIV/0!"},{"$f":"'[22]3 класс'!J2","v":0},{"$error":"#DIV/0!"},{"$f":"'[22]3 класс'!K2","v":0},{"$error":"#DIV/0!"},{"$f":"'[22]3 класс'!L2","v":0},{"$error":"#DIV/0!"},""]
[4,4,7,7,{"v":1,"d":"100.00%"},7,{"v":1,"d":"100.00%"},{"$f":"'[22]4 класс'!K2","v":1},{"v":0.14285714285714285,"d":"14.29%"},{"$f":"'[22]4 класс'!L2","v":4},{"v":0.5714285714285714,"d":"57.14%"},{"$f":"'[22]4 класс'!M2","v":2},{"v":0.2857142857142857,"d":"28.57%"},""]
[5,5,6,5,{"v":0.8333333333333334,"d":"83.33%"},5,{"v":1,"d":"100.00%"},{"$f":"'[22]5 класс'!L2","v":0},{"v":0,"d":"0.00%"},{"$f":"'[22]5 класс'!M2","v":3},{"v":0.6,"d":"60.00%"},{"$f":"'[22]5 класс'!N2","v":2},{"v":0.4,"d":"40.00%"},""]
[6,6,5,5,{"v":1,"d":"100.00%"},5,{"v":1,"d":"100.00%"},{"$f":"'[22]6 класс'!L2","v":0},{"v":0,"d":"0.00%"},{"$f":"'[22]6 класс'!M2","v":5},{"v":1,"d":"100.00%"},{"$f":"'[22]6 класс'!N2","v":0},{"v":0,"d":"0.00%"},""]
[7,7,4,3,{"v":0.75,"d":"75.00%"},3,{"v":1,"d":"100.00%"},{"$f":"'[22]7 класс'!L2","v":0},{"v":0,"d":"0.00%"},{"$f":"'[22]7 класс'!M2","v":2},{"v":0.6666666666666666,"d":"66.67%"},{"$f":"'[22]7 класс'!N2","v":1},{"v":0.3333333333333333,"d":"33.33%"},""]
[8,8,7,6,{"v":0.8571428571428571,"d":"85.71%"},6,{"v":1,"d":"100.00%"},{"$f":"'[22]8 класс'!L2","v":0},{"v":0,"d":"0.00%"},{"$f":"'[22]8 класс'!M2","v":4},{"v":0.6666666666666666,"d":"66.67%"},{"$f":"'[22]8 класс'!N2","v":2},{"v":0.3333333333333333,"d":"33.33%"},""]
[9,9,7,6,{"v":0.8571428571428571,"d":"85.71%"},6,{"v":1,"d":"100.00%"},{"$f":"'[22]9 класс'!L2","v":2},{"v":0.3333333333333333,"d":"33.33%"},{"$f":"'[22]9 класс'!M2","v":3},{"v":0.5,"d":"50.00%"},{"$f":"'[22]9 класс'!N2","v":1},{"v":0.16666666666666666,"d":"16.67%"},""]
[10,10,3,3,{"v":1,"d":"100.00%"},3,{"v":1,"d":"100.00%"},{"$f":"'[22]10 класс'!L2","v":0},{"v":0,"d":"0.00%"},{"$f":"'[22]10 класс'!M2","v":1},{"v":0.3333333333333333,"d":"33.33%"},{"$f":"'[22]10 класс'!N2","v":2},{"v":0.6666666666666666,"d":"66.67%"},""]
[11,11,5,5,{"v":1,"d":"100.00%"},5,{"v":1,"d":"100.00%"},{"$f":"'[22]11 класс'!L2","v":0},{"v":0,"d":"0.00%"},{"$f":"'[22]11 класс'!M2","v":2},{"v":0.4,"d":"40.00%"},{"$f":"'[22]11 класс'!N2","v":3},{"v":0.6,"d":"60.00%"},""]
["Всего",null,{"$f":"SUM(C10:C20)","v":53},{"$f":"SUM(D10:D20)","v":49},{"v":0.9245283018867925,"d":"92.45%"},{"$f":"SUM(F10:F20)","v":49},{"v":1,"d":"100.00%"},{"$f":"SUM(H10:H20)","v":3},{"v":0.061224489795918366,"d":"6.12%"},{"$f":"SUM(J10:J20)","v":31},{"v":0.6326530612244898,"d":"63.27%"},{"$f":"SUM(L10:L20)","v":15},{"v":0.30612244897959184,"d":"30.61%"},""]

{"sheet":"Н.Бишево","index":13,"n_rows":21,"n_cols":14,"rows_kept":21,"merged":[[0,0,0,13],[1,0,8,0],[1,1,7,1],[1,2,7,2],[1,3,3,4],[1,5,3,6],[1,7,3,12],[1,13,7,13],[4,3,7,3],[4,4,7,4],[4,5,7,5],[4,6,7,6],[4,7,6,8],[4,9,6,10],[4,11,6,12],[20,0,20,1]]}
["Форма мониторинга \nфизической подготовленности обучающихся в сфере образования Российской Федерации"]
["№ строки","Класс","Всего обучающихся в общеобразовательной организации","Из них с основной группой здоровья  ",null,"Количество \nсдавших тест \n(от общей численности обучающихся с основной группой здоровья)\n",null,"Уровень физической подготовленности                                      (количество сдавших тесты с основной группой здоровья)",{"$nulls":5},"Проверка данных"]
[]
[]
[{"$nulls":3},"Кол-во","%                                (от общей численности обучающихся) ","Кол-во","%","Низкий",null,"Средний",null,"Высокий"]
[]
[]
[{"$nulls":7},"Кол-во","%","Кол-во","%","Кол-во","%"]
[null,1,2,3,4,5,6,7,8,9,10,11,12,13]
[1,1,7,7,{"$f":"D10/C10","v":{"v":1,"d":"100.00%"}},{"$f":"SUM(H10+J10+L10)","v":7},{"$f":"F10/D10","v":{"v":1,"d":"100.00%"}},{"$f":"'[20]1 класс'!J2","v":0},{"$f":"H10/F10","v":{"v":0,"d":"0.00%"}},{"$f":"'[20]1 класс'!K2","v":6},{"$f":"J10/F10","v":{"v":0.8571428571428571,"d":"85.71%"}},{"$f":"'[20]1 класс'!L2","v":1},{"$f":"L10/F10","v":{"v":0.14285714285714285,"d":"14.29%"}},{"$f":"IF((H10+J10+L10)>D10,\"ОШИБКА\",\"\")","v":""}]
[2,2,8,8,{"$f":"D11/C11","v":{"v":1,"d":"100.00%"}},{"$f":"SUM(H11+J11+L11)","v":8},{"$f":"F11/D11","v":{"v":1,"d":"100.00%"}},{"$f":"'[20]2 класс'!J2","v":0},{"$f":"H11/F11","v":{"v":0,"d":"0.00%"}},{"$f":"'[20]2 класс'!K2","v":8},{"$f":"J11/F11","v":{"v":1,"d":"100.00%"}},{"$f":"'[20]2 класс'!L2","v":0},{"$f":"L11/F11","v":{"v":0,"d":"0.00%"}},{"$f":"IF((H11+J11+L11)>D11,\"ОШИБКА\",\"\")","v":""}]
[3,3,6,6,{"v":1,"d":"100.00%"},6,{"v":1,"d":"100.00%"},{"$f":"'[20]3 класс'!J2","v":0},{"v":0,"d":"0.00%"},{"$f":"'[20]3 класс'!K2","v":6},{"v":1,"d":"100.00%"},{"$f":"'[20]3 класс'!L2","v":0},{"v":0,"d":"0.00%"},""]
[4,4,10,8,{"v":0.8,"d":"80.00%"},8,{"v":1,"d":"100.00%"},{"$f":"'[20]4 класс'!K2","v":1},{"v":0.125,"d":"12.50%"},{"$f":"'[20]4 класс'!L2","v":7},{"v":0.875,"d":"87.50%"},{"$f":"'[20]4 класс'!M2","v":0},{"v":0,"d":"0.00%"},""]
[5,5,5,5,{"v":1,"d":"100.00%"},5,{"v":1,"d":"100.00%"},{"$f":"'[20]5 класс'!L2","v":0},{"v":0,"d":"0.00%"},{"$f":"'[20]5 класс'!M2","v":4},{"v":0.8,"d":"80.00%"},{"$f":"'[20]5 класс'!N2","v":1},{"v":0.2,"d":"20.00%"},""]
[6,6,4,4,{"v":1,"d":"100.00%"},4,{"v":1,"d":"100.00%"},{"$f":"'[20]6 класс'!L2","v":0},{"v":0,"d":"0.00%"},{"$f":"'[20]6 класс'!M2","v":4},{"v":1,"d":"100.00%"},{"$f":"'[20]6 класс'!N2","v":0},{"v":0,"d":"0.00%"},""]
[7,7,6,6,{"v":1,"d":"100.00%"},6,{"v":1,"d":"100.00%"},{"$f":"'[20]7 класс'!L2","v":0},{"v":0,"d":"0.00%"},{"$f":"'[20]7 класс'!M2","v":4},{"v":0.6666666666666666,"d":"66.67%"},{"$f":"'[20]7 класс'!N2","v":2},{"v":0.3333333333333333,"d":"33.33%"},""]
[8,8,12,12,{"v":1,"d":"100.00%"},12,{"v":1,"d":"100.00%"},{"$f":"'[20]8 класс'!L2","v":2},{"v":0.16666666666666666,"d":"16.67%"},{"$f":"'[20]8 класс'!M2","v":7},{"v":0.5833333333333334,"d":"58.33%"},{"$f":"'[20]8 класс'!N2","v":3},{"v":0.25,"d":"25.00%"},""]
[9,9,9,9,{"v":1,"d":"100.00%"},9,{"v":1,"d":"100.00%"},{"$f":"'[20]9 класс'!L2","v":0},{"v":0,"d":"0.00%"},{"$f":"'[20]9 класс'!M2","v":5},{"v":0.5555555555555556,"d":"55.56%"},{"$f":"'[20]9 класс'!N2","v":4},{"v":0.4444444444444444,"d":"44.44%"},""]
[10,10,8,8,{"v":1,"d":"100.00%"},8,{"v":1,"d":"100.00%"},{"$f":"'[20]10 класс'!L2","v":1},{"v":0.125,"d":"12.50%"},{"$f":"'[20]10 класс'!M2","v":3},{"v":0.375,"d":"37.50%"},{"$f":"'[20]10 класс'!N2","v":4},{"v":0.5,"d":"50.00%"},""]
[11,11,5,5,{"v":1,"d":"100.00%"},5,{"v":1,"d":"100.00%"},{"$f":"'[20]11 класс'!L2","v":0},{"v":0,"d":"0.00%"},{"$f":"'[20]11 класс'!M2","v":1},{"v":0.2,"d":"20.00%"},{"$f":"'[20]11 класс'!N2","v":4},{"v":0.8,"d":"80.00%"},""]
["Всего",null,{"$f":"SUM(C10:C20)","v":80},{"$f":"SUM(D10:D20)","v":78},{"v":0.975,"d":"97.50%"},{"$f":"SUM(F10:F20)","v":78},{"v":1,"d":"100.00%"},{"$f":"SUM(H10:H20)","v":4},{"v":0.05128205128205128,"d":"5.13%"},{"$f":"SUM(J10:J20)","v":55},{"v":0.7051282051282052,"d":"70.51%"},{"$f":"SUM(L10:L20)","v":19},{"v":0.24358974358974358,"d":"24.36%"},""]

{"sheet":"Поручиково","index":14,"n_rows":21,"n_cols":14,"rows_kept":21,"merged":[[0,0,0,13],[1,0,8,0],[1,1,7,1],[1,2,7,2],[1,3,3,4],[1,5,3,6],[1,7,3,12],[1,13,7,13],[4,3,7,3],[4,4,7,4],[4,5,7,5],[4,6,7,6],[4,7,6,8],[4,9,6,10],[4,11,6,12],[20,0,20,1]]}
["Форма мониторинга \nфизической подготовленности обучающихся в сфере образования Российской Федерации"]
["№ строки","Класс","Всего обучающихся в общеобразовательной организации","Из них с основной группой здоровья  ",null,"Количество \nсдавших тест \n(от общей численности обучающихся с основной группой здоровья)\n",null,"Уровень физической подготовленности                                      (количество сдавших тесты с основной группой здоровья)",{"$nulls":5},"Проверка данных"]
[]
[]
[{"$nulls":3},"Кол-во","%                                (от общей численности обучающихся) ","Кол-во","%","Низкий",null,"Средний",null,"Высокий"]
[]
[]
[{"$nulls":7},"Кол-во","%","Кол-во","%","Кол-во","%"]
[null,1,2,3,4,5,6,7,8,9,10,11,12,13]
[1,1,6,6,{"$f":"D10/C10","v":{"v":1,"d":"100.00%"}},{"$f":"SUM(H10+J10+L10)","v":6},{"$f":"F10/D10","v":{"v":1,"d":"100.00%"}},{"$f":"'[21]1 класс'!J2","v":0},{"$f":"H10/F10","v":{"v":0,"d":"0.00%"}},{"$f":"'[21]1 класс'!K2","v":5},{"$f":"J10/F10","v":{"v":0.8333333333333334,"d":"83.33%"}},{"$f":"'[21]1 класс'!L2","v":1},{"$f":"L10/F10","v":{"v":0.16666666666666666,"d":"16.67%"}},{"$f":"IF((H10+J10+L10)>D10,\"ОШИБКА\",\"\")","v":""}]
[2,2,6,6,{"$f":"D11/C11","v":{"v":1,"d":"100.00%"}},{"$f":"SUM(H11+J11+L11)","v":6},{"$f":"F11/D11","v":{"v":1,"d":"100.00%"}},{"$f":"'[21]2 класс'!J2","v":0},{"$f":"H11/F11","v":{"v":0,"d":"0.00%"}},{"$f":"'[21]2 класс'!K2","v":4},{"$f":"J11/F11","v":{"v":0.6666666666666666,"d":"66.67%"}},{"$f":"'[21]2 класс'!L2","v":2},{"$f":"L11/F11","v":{"v":0.3333333333333333,"d":"33.33%"}},{"$f":"IF((H11+J11+L11)>D11,\"ОШИБКА\",\"\")","v":""}]
[3,3,5,3,{"v":0.6,"d":"60.00%"},3,{"v":1,"d":"100.00%"},{"$f":"'[21]3 класс'!J2","v":0},{"v":0,"d":"0.00%"},{"$f":"'[21]3 класс'!K2","v":2},{"v":0.6666666666666666,"d":"66.67%"},{"$f":"'[21]3 класс'!L2","v":1},{"v":0.3333333333333333,"d":"33.33%"},""]
[4,4,8,5,{"v":0.625,"d":"62.50%"},5,{"v":1,"d":"100.00%"},{"$f":"'[21]4 класс'!K2","v":2},{"v":0.4,"d":"40.00%"},{"$f":"'[21]4 класс'!L2","v":3},{"v":0.6,"d":"60.00%"},{"$f":"'[21]4 класс'!M2","v":0},{"v":0,"d":"0.00%"},""]
[5,5,5,5,{"v":1,"d":"100.00%"},5,{"v":1,"d":"100.00%"},{"$f":"'[21]5 класс'!L2","v":4},{"v":0.8,"d":"80.00%"},{"$f":"'[21]5 класс'!M2","v":1},{"v":0.2,"d":"20.00%"},{"$f":"'[21]5 класс'!N2","v":0},{"v":0,"d":"0.00%"},""]
[6,6,6,4,{"v":0.6666666666666666,"d":"66.67%"},4,{"v":1,"d":"100.00%"},{"$f":"'[21]6 класс'!L2","v":2},{"v":0.5,"d":"50.00%"},{"$f":"'[21]6 класс'!M2","v":2},{"v":0.5,"d":"50.00%"},{"$f":"'[21]6 класс'!N2","v":0},{"v":0,"d":"0.00%"},""]
[7,7,1,1,{"v":1,"d":"100.00%"},1,{"v":1,"d":"100.00%"},{"$f":"'[21]7 класс'!L2","v":0},{"v":0,"d":"0.00%"},{"$f":"'[21]7 класс'!M2","v":1},{"v":1,"d":"100.00%"},{"$f":"'[21]7 класс'!N2","v":0},{"v":0,"d":"0.00%"},""]
[8,8,9,7,{"v":0.7777777777777778,"d":"77.78%"},7,{"v":1,"d":"100.00%"},{"$f":"'[21]8 класс'!L2","v":1},{"v":0.14285714285714285,"d":"14.29%"},{"$f":"'[21]8 класс'!M2","v":4},{"v":0.5714285714285714,"d":"57.14%"},{"$f":"'[21]8 класс'!N2","v":2},{"v":0.2857142857142857,"d":"28.57%"},""]
[9,9,7,7,{"v":1,"d":"100.00%"},7,{"v":1,"d":"100.00%"},{"$f":"'[21]9 класс'!L2","v":0},{"v":0,"d":"0.00%"},{"$f":"'[21]9 класс'!M2","v":4},{"v":0.5714285714285714,"d":"57.14%"},{"$f":"'[21]9 класс'!N2","v":3},{"v":0.42857142857142855,"d":"42.86%"},""]
[10,10,0,0,{"$error":"#DIV/0!"},0,{"$error":"#DIV/0!"},{"$f":"'[21]10 класс'!L2","v":0},{"$error":"#DIV/0!"},{"$f":"'[21]10 класс'!M2","v":0},{"$error":"#DIV/0!"},{"$f":"'[21]10 класс'!N2","v":0},{"$error":"#DIV/0!"},""]
[11,11,0,0,{"$error":"#DIV/0!"},0,{"$error":"#DIV/0!"},{"$f":"'[21]11 класс'!L2","v":0},{"$error":"#DIV/0!"},{"$f":"'[21]11 класс'!M2","v":0},{"$error":"#DIV/0!"},{"$f":"'[21]11 класс'!N2","v":0},{"$error":"#DIV/0!"},""]
["Всего",null,{"$f":"SUM(C10:C20)","v":53},{"$f":"SUM(D10:D20)","v":44},{"v":0.8301886792452831,"d":"83.02%"},{"$f":"SUM(F10:F20)","v":44},{"v":1,"d":"100.00%"},{"$f":"SUM(H10:H20)","v":9},{"v":0.20454545454545456,"d":"20.45%"},{"$f":"SUM(J10:J20)","v":26},{"v":0.5909090909090909,"d":"59.09%"},{"$f":"SUM(L10:L20)","v":9},{"v":0.20454545454545456,"d":"20.45%"},""]

{"sheet":"Тюгеевка","index":15,"n_rows":21,"n_cols":14,"rows_kept":21,"merged":[[0,0,0,13],[1,0,8,0],[1,1,7,1],[1,2,7,2],[1,3,3,4],[1,5,3,6],[1,7,3,12],[1,13,7,13],[4,3,7,3],[4,4,7,4],[4,5,7,5],[4,6,7,6],[4,7,6,8],[4,9,6,10],[4,11,6,12],[20,0,20,1]]}
["Форма мониторинга \nфизической подготовленности обучающихся в сфере образования Российской Федерации"]
["№ строки","Класс","Всего обучающихся в общеобразовательной организации","Из них с основной группой здоровья  ",null,"Количество \nсдавших тест \n(от общей численности обучающихся с основной группой здоровья)\n",null,"Уровень физической подготовленности                                      (количество сдавших тесты с основной группой здоровья)",{"$nulls":5},"Проверка данных"]
[]
[]
[{"$nulls":3},"Кол-во","%                                (от общей численности обучающихся) ","Кол-во","%","Низкий",null,"Средний",null,"Высокий"]
[]
[]
[{"$nulls":7},"Кол-во","%","Кол-во","%","Кол-во","%"]
[null,1,2,3,4,5,6,7,8,9,10,11,12,13]
[1,1,3,3,{"$f":"D10/C10","v":{"v":1,"d":"100.00%"}},{"$f":"SUM(H10+J10+L10)","v":3},{"$f":"F10/D10","v":{"v":1,"d":"100.00%"}},{"$f":"'[15]1 класс'!J2","v":1},{"$f":"H10/F10","v":{"v":0.3333333333333333,"d":"33.33%"}},{"$f":"'[15]1 класс'!K2","v":2},{"$f":"J10/F10","v":{"v":0.6666666666666666,"d":"66.67%"}},{"$f":"'[15]1 класс'!L2","v":0},{"$f":"L10/F10","v":{"v":0,"d":"0.00%"}},{"$f":"IF((H10+J10+L10)>D10,\"ОШИБКА\",\"\")","v":""}]
[2,2,3,2,{"$f":"D11/C11","v":{"v":0.6666666666666666,"d":"66.67%"}},{"$f":"SUM(H11+J11+L11)","v":2},{"$f":"F11/D11","v":{"v":1,"d":"100.00%"}},{"$f":"'[15]2 класс'!J2","v":1},{"$f":"H11/F11","v":{"v":0.5,"d":"50.00%"}},{"$f":"'[15]2 класс'!K2","v":1},{"$f":"J11/F11","v":{"v":0.5,"d":"50.00%"}},{"$f":"'[15]2 класс'!L2","v":0},{"$f":"L11/F11","v":{"v":0,"d":"0.00%"}},{"$f":"IF((H11+J11+L11)>D11,\"ОШИБКА\",\"\")","v":""}]
[3,3,2,2,{"v":1,"d":"100.00%"},2,{"v":1,"d":"100.00%"},{"$f":"'[15]3 класс'!J2","v":0},{"v":0,"d":"0.00%"},{"$f":"'[15]3 класс'!K2","v":2},{"v":1,"d":"100.00%"},{"$f":"'[15]3 класс'!L2","v":0},{"v":0,"d":"0.00%"},""]
[4,4,5,5,{"v":1,"d":"100.00%"},5,{"v":1,"d":"100.00%"},{"$f":"'[15]4 класс'!K2","v":2},{"v":0.4,"d":"40.00%"},{"$f":"'[15]4 класс'!L2","v":1},{"v":0.2,"d":"20.00%"},{"$f":"'[15]4 класс'!M2","v":2},{"v":0.4,"d":"40.00%"},""]
[5,5,6,6,{"v":1,"d":"100.00%"},6,{"v":1,"d":"100.00%"},{"$f":"'[15]5 класс'!L2","v":2},{"v":0.3333333333333333,"d":"33.33%"},{"$f":"'[15]5 класс'!M2","v":2},{"v":0.3333333333333333,"d":"33.33%"},{"$f":"'[15]5 класс'!N2","v":2},{"v":0.3333333333333333,"d":"33.33%"},""]
[6,6,7,7,{"v":1,"d":"100.00%"},7,{"v":1,"d":"100.00%"},{"$f":"'[15]6 класс'!L2","v":1},{"v":0.14285714285714285,"d":"14.29%"},{"$f":"'[15]6 класс'!M2","v":5},{"v":0.7142857142857143,"d":"71.43%"},{"$f":"'[15]6 класс'!N2","v":1},{"v":0.14285714285714285,"d":"14.29%"},""]
[7,7,3,3,{"v":1,"d":"100.00%"},3,{"v":1,"d":"100.00%"},{"$f":"'[15]7 класс'!L2","v":0},{"v":0,"d":"0.00%"},{"$f":"'[15]7 класс'!M2","v":1},{"v":0.3333333333333333,"d":"33.33%"},{"$f":"'[15]7 класс'!N2","v":2},{"v":0.6666666666666666,"d":"66.67%"},""]
[8,8,6,6,{"v":1,"d":"100.00%"},6,{"v":1,"d":"100.00%"},{"$f":"'[15]8 класс'!L2","v":0},{"v":0,"d":"0.00%"},{"$f":"'[15]8 класс'!M2","v":2},{"v":0.3333333333333333,"d":"33.33%"},{"$f":"'[15]8 класс'!N2","v":4},{"v":0.6666666666666666,"d":"66.67%"},""]
[9,9,1,1,{"v":1,"d":"100.00%"},1,{"v":1,"d":"100.00%"},{"$f":"'[15]9 класс'!L2","v":1},{"v":1,"d":"100.00%"},{"$f":"'[15]9 класс'!M2","v":0},{"v":0,"d":"0.00%"},{"$f":"'[15]9 класс'!N2","v":0},{"v":0,"d":"0.00%"},""]
[10,10,null,null,{"$error":"#DIV/0!"},0,{"$error":"#DIV/0!"},{"$f":"'[15]10 класс'!L2","v":0},{"$error":"#DIV/0!"},{"$f":"'[15]10 класс'!M2","v":0},{"$error":"#DIV/0!"},{"$f":"'[15]10 класс'!N2","v":0},{"$error":"#DIV/0!"},""]
[11,11,null,null,{"$error":"#DIV/0!"},0,{"$error":"#DIV/0!"},{"$f":"'[15]11 класс'!L2","v":0},{"$error":"#DIV/0!"},{"$f":"'[15]11 класс'!M2","v":0},{"$error":"#DIV/0!"},{"$f":"'[15]11 класс'!N2","v":0},{"$error":"#DIV/0!"},""]
["Всего",null,{"$f":"SUM(C10:C20)","v":36},{"$f":"SUM(D10:D20)","v":35},{"v":0.9722222222222222,"d":"97.22%"},{"$f":"SUM(F10:F20)","v":35},{"v":1,"d":"100.00%"},{"$f":"SUM(H10:H20)","v":8},{"v":0.22857142857142856,"d":"22.86%"},{"$f":"SUM(J10:J20)","v":16},{"v":0.45714285714285713,"d":"45.71%"},{"$f":"SUM(L10:L20)","v":11},{"v":0.3142857142857143,"d":"31.43%"},""]

{"sheet":"В.шипки","index":16,"n_rows":21,"n_cols":14,"rows_kept":21,"merged":[[0,0,0,13],[1,0,8,0],[1,1,7,1],[1,2,7,2],[1,3,3,4],[1,5,3,6],[1,7,3,12],[1,13,7,13],[4,3,7,3],[4,4,7,4],[4,5,7,5],[4,6,7,6],[4,7,6,8],[4,9,6,10],[4,11,6,12],[20,0,20,1]]}
["Форма мониторинга \nфизической подготовленности обучающихся в сфере образования Российской Федерации"]
["№ строки","Класс","Всего обучающихся в общеобразовательной организации","Из них с основной группой здоровья  ",null,"Количество \nсдавших тест \n(от общей численности обучающихся с основной группой здоровья)\n",null,"Уровень физической подготовленности                                      (количество сдавших тесты с основной группой здоровья)",{"$nulls":5},"Проверка данных"]
[]
[]
[{"$nulls":3},"Кол-во","%                                (от общей численности обучающихся) ","Кол-во","%","Низкий",null,"Средний",null,"Высокий"]
[]
[]
[{"$nulls":7},"Кол-во","%","Кол-во","%","Кол-во","%"]
[null,1,2,3,4,5,6,7,8,9,10,11,12,13]
[1,1,6,6,{"$f":"D10/C10","v":{"v":1,"d":"100.00%"}},{"$f":"SUM(H10+J10+L10)","v":6},{"$f":"F10/D10","v":{"v":1,"d":"100.00%"}},{"$f":"'[13]1 класс'!J2","v":4},{"$f":"H10/F10","v":{"v":0.6666666666666666,"d":"66.67%"}},{"$f":"'[13]1 класс'!K2","v":2},{"$f":"J10/F10","v":{"v":0.3333333333333333,"d":"33.33%"}},{"$f":"'[13]1 класс'!L2","v":0},{"$f":"L10/F10","v":{"v":0,"d":"0.00%"}},{"$f":"IF((H10+J10+L10)>D10,\"ОШИБКА\",\"\")","v":""}]
[2,2,4,4,{"$f":"D11/C11","v":{"v":1,"d":"100.00%"}},{"$f":"SUM(H11+J11+L11)","v":4},{"$f":"F11/D11","v":{"v":1,"d":"100.00%"}},{"$f":"'[13]2 класс'!J2","v":4},{"$f":"H11/F11","v":{"v":1,"d":"100.00%"}},{"$f":"'[13]2 класс'!K2","v":0},{"$f":"J11/F11","v":{"v":0,"d":"0.00%"}},{"$f":"'[13]2 класс'!L2","v":0},{"$f":"L11/F11","v":{"v":0,"d":"0.00%"}},{"$f":"IF((H11+J11+L11)>D11,\"ОШИБКА\",\"\")","v":""}]
[3,3,8,8,{"v":1,"d":"100.00%"},8,{"v":1,"d":"100.00%"},{"$f":"'[13]3 класс'!J2","v":7},{"v":0.875,"d":"87.50%"},{"$f":"'[13]3 класс'!K2","v":1},{"v":0.125,"d":"12.50%"},{"$f":"'[13]3 класс'!L2","v":0},{"v":0,"d":"0.00%"},""]
[4,4,5,5,{"v":1,"d":"100.00%"},5,{"v":1,"d":"100.00%"},{"$f":"'[13]4 класс'!K2","v":1},{"v":0.2,"d":"20.00%"},{"$f":"'[13]4 класс'!L2","v":4},{"v":0.8,"d":"80.00%"},{"$f":"'[13]4 класс'!M2","v":0},{"v":0,"d":"0.00%"},""]
[5,5,3,3,{"v":1,"d":"100.00%"},3,{"v":1,"d":"100.00%"},{"$f":"'[13]5 класс'!L2","v":2},{"v":0.6666666666666666,"d":"66.67%"},{"$f":"'[13]5 класс'!M2","v":1},{"v":0.3333333333333333,"d":"33.33%"},{"$f":"'[13]5 класс'!N2","v":0},{"v":0,"d":"0.00%"},""]
[6,6,6,6,{"v":1,"d":"100.00%"},6,{"v":1,"d":"100.00%"},{"$f":"'[13]6 класс'!L2","v":4},{"v":0.6666666666666666,"d":"66.67%"},{"$f":"'[13]6 класс'!M2","v":2},{"v":0.3333333333333333,"d":"33.33%"},{"$f":"'[13]6 класс'!N2","v":0},{"v":0,"d":"0.00%"},""]
[7,7,3,3,{"v":1,"d":"100.00%"},3,{"v":1,"d":"100.00%"},{"$f":"'[13]7 класс'!L2","v":0},{"v":0,"d":"0.00%"},{"$f":"'[13]7 класс'!M2","v":3},{"v":1,"d":"100.00%"},{"$f":"'[13]7 класс'!N2","v":0},{"v":0,"d":"0.00%"},""]
[8,8,5,5,{"v":1,"d":"100.00%"},5,{"v":1,"d":"100.00%"},{"$f":"'[13]8 класс'!L2","v":4},{"v":0.8,"d":"80.00%"},{"$f":"'[13]8 класс'!M2","v":1},{"v":0.2,"d":"20.00%"},{"$f":"'[13]8 класс'!N2","v":0},{"v":0,"d":"0.00%"},""]
[9,9,6,6,{"v":1,"d":"100.00%"},6,{"v":1,"d":"100.00%"},{"$f":"'[13]9 класс'!L2","v":6},{"v":1,"d":"100.00%"},{"$f":"'[13]9 класс'!M2","v":0},{"v":0,"d":"0.00%"},{"$f":"'[13]9 класс'!N2","v":0},{"v":0,"d":"0.00%"},""]
[10,10,null,null,{"$error":"#DIV/0!"},0,{"$error":"#DIV/0!"},{"$f":"'[13]10 класс'!L2","v":0},{"$error":"#DIV/0!"},{"$f":"'[13]10 класс'!M2","v":0},{"$error":"#DIV/0!"},{"$f":"'[13]10 класс'!N2","v":0},{"$error":"#DIV/0!"},""]
[11,11,null,null,{"$error":"#DIV/0!"},0,{"$error":"#DIV/0!"},{"$f":"'[13]11 класс'!L2","v":0},{"$error":"#DIV/0!"},{"$f":"'[13]11 класс'!M2","v":0},{"$error":"#DIV/0!"},{"$f":"'[13]11 класс'!N2","v":0},{"$error":"#DIV/0!"},""]
["Всего",null,{"$f":"SUM(C10:C20)","v":46},{"$f":"SUM(D10:D20)","v":46},{"v":1,"d":"100.00%"},{"$f":"SUM(F10:F20)","v":46},{"v":1,"d":"100.00%"},{"$f":"SUM(H10:H20)","v":32},{"v":0.6956521739130435,"d":"69.57%"},{"$f":"SUM(J10:J20)","v":14},{"v":0.30434782608695654,"d":"30.43%"},{"$f":"SUM(L10:L20)","v":0},{"v":0,"d":"0.00%"},""]

{"sheet":"В.налим","index":17,"n_rows":21,"n_cols":14,"rows_kept":21,"merged":[[0,0,0,13],[1,0,8,0],[1,1,7,1],[1,2,7,2],[1,3,3,4],[1,5,3,6],[1,7,3,12],[1,13,7,13],[4,3,7,3],[4,4,7,4],[4,5,7,5],[4,6,7,6],[4,7,6,8],[4,9,6,10],[4,11,6,12],[20,0,20,1]]}
["Форма мониторинга \nфизической подготовленности обучающихся в сфере образования Российской Федерации"]
["№ строки","Класс","Всего обучающихся в общеобразовательной организации","Из них с основной группой здоровья  ",null,"Количество \nсдавших тест \n(от общей численности обучающихся с основной группой здоровья)\n",null,"Уровень физической подготовленности                                      (количество сдавших тесты с основной группой здоровья)",{"$nulls":5},"Проверка данных"]
[]
[]
[{"$nulls":3},"Кол-во","%                                (от общей численности обучающихся) ","Кол-во","%","Низкий",null,"Средний",null,"Высокий"]
[]
[]
[{"$nulls":7},"Кол-во","%","Кол-во","%","Кол-во","%"]
[null,1,2,3,4,5,6,7,8,9,10,11,12,13]
[1,1,2,2,{"$f":"D10/C10","v":{"v":1,"d":"100.00%"}},{"$f":"SUM(H10+J10+L10)","v":2},{"$f":"F10/D10","v":{"v":1,"d":"100.00%"}},{"$f":"'[12]1 класс'!J2","v":0},{"$f":"H10/F10","v":{"v":0,"d":"0.00%"}},{"$f":"'[12]1 класс'!K2","v":2},{"$f":"J10/F10","v":{"v":1,"d":"100.00%"}},{"$f":"'[12]1 класс'!L2","v":0},{"$f":"L10/F10","v":{"v":0,"d":"0.00%"}},{"$f":"IF((H10+J10+L10)>D10,\"ОШИБКА\",\"\")","v":""}]
[2,2,4,4,{"$f":"D11/C11","v":{"v":1,"d":"100.00%"}},{"$f":"SUM(H11+J11+L11)","v":4},{"$f":"F11/D11","v":{"v":1,"d":"100.00%"}},{"$f":"'[12]2 класс'!J2","v":1},{"$f":"H11/F11","v":{"v":0.25,"d":"25.00%"}},{"$f":"'[12]2 класс'!K2","v":3},{"$f":"J11/F11","v":{"v":0.75,"d":"75.00%"}},{"$f":"'[12]2 класс'!L2","v":0},{"$f":"L11/F11","v":{"v":0,"d":"0.00%"}},{"$f":"IF((H11+J11+L11)>D11,\"ОШИБКА\",\"\")","v":""}]
[3,3,5,5,{"v":1,"d":"100.00%"},5,{"v":1,"d":"100.00%"},{"$f":"'[12]3 класс'!J2","v":0},{"v":0,"d":"0.00%"},{"$f":"'[12]3 класс'!K2","v":5},{"v":1,"d":"100.00%"},{"$f":"'[12]3 класс'!L2","v":0},{"v":0,"d":"0.00%"},""]
[4,4,3,2,{"v":0.6666666666666666,"d":"66.67%"},2,{"v":1,"d":"100.00%"},{"$f":"'[12]4 класс'!K2","v":0},{"v":0,"d":"0.00%"},{"$f":"'[12]4 класс'!L2","v":1},{"v":0.5,"d":"50.00%"},{"$f":"'[12]4 класс'!M2","v":1},{"v":0.5,"d":"50.00%"},""]
[5,5,2,2,{"v":1,"d":"100.00%"},2,{"v":1,"d":"100.00%"},{"$f":"'[12]5 класс'!L2","v":0},{"v":0,"d":"0.00%"},{"$f":"'[12]5 класс'!M2","v":2},{"v":1,"d":"100.00%"},{"$f":"'[12]5 класс'!N2","v":0},{"v":0,"d":"0.00%"},""]
[6,6,3,2,{"v":0.6666666666666666,"d":"66.67%"},2,{"v":1,"d":"100.00%"},{"$f":"'[12]6 класс'!L2","v":0},{"v":0,"d":"0.00%"},{"$f":"'[12]6 класс'!M2","v":2},{"v":1,"d":"100.00%"},{"$f":"'[12]6 класс'!N2","v":0},{"v":0,"d":"0.00%"},""]
[7,7,3,2,{"v":0.6666666666666666,"d":"66.67%"},2,{"v":1,"d":"100.00%"},{"$f":"'[12]7 класс'!L2","v":0},{"v":0,"d":"0.00%"},{"$f":"'[12]7 класс'!M2","v":1},{"v":0.5,"d":"50.00%"},{"$f":"'[12]7 класс'!N2","v":1},{"v":0.5,"d":"50.00%"},""]
[8,8,4,4,{"v":1,"d":"100.00%"},4,{"v":1,"d":"100.00%"},{"$f":"'[12]8 класс'!L2","v":0},{"v":0,"d":"0.00%"},{"$f":"'[12]8 класс'!M2","v":3},{"v":0.75,"d":"75.00%"},{"$f":"'[12]8 класс'!N2","v":1},{"v":0.25,"d":"25.00%"},""]
[9,9,6,6,{"v":1,"d":"100.00%"},6,{"v":1,"d":"100.00%"},{"$f":"'[12]9 класс'!L2","v":0},{"v":0,"d":"0.00%"},{"$f":"'[12]9 класс'!M2","v":5},{"v":0.8333333333333334,"d":"83.33%"},{"$f":"'[12]9 класс'!N2","v":1},{"v":0.16666666666666666,"d":"16.67%"},""]
[10,10,null,null,{"$error":"#DIV/0!"},0,{"$error":"#DIV/0!"},{"$f":"'[12]10 класс'!L2","v":0},{"$error":"#DIV/0!"},{"$f":"'[12]10 класс'!M2","v":0},{"$error":"#DIV/0!"},{"$f":"'[12]10 класс'!N2","v":0},{"$error":"#DIV/0!"},""]
[11,11,null,null,{"$error":"#DIV/0!"},0,{"$error":"#DIV/0!"},{"$f":"'[12]11 класс'!L2","v":0},{"$error":"#DIV/0!"},{"$f":"'[12]11 класс'!M2","v":0},{"$error":"#DIV/0!"},{"$f":"'[12]11 класс'!N2","v":0},{"$error":"#DIV/0!"},""]
["Всего",null,{"$f":"SUM(C10:C20)","v":32},{"$f":"SUM(D10:D20)","v":29},{"v":0.90625,"d":"90.63%"},{"$f":"SUM(F10:F20)","v":29},{"v":1,"d":"100.00%"},{"$f":"SUM(H10:H20)","v":1},{"v":0.034482758620689655,"d":"3.45%"},{"$f":"SUM(J10:J20)","v":24},{"v":0.8275862068965517,"d":"82.76%"},{"$f":"SUM(L10:L20)","v":4},{"v":0.13793103448275862,"d":"13.79%"},""]

{"sheet":"Аксар","index":18,"n_rows":21,"n_cols":14,"rows_kept":21,"merged":[[0,0,0,13],[1,0,8,0],[1,1,7,1],[1,2,7,2],[1,3,3,4],[1,5,3,6],[1,7,3,12],[1,13,7,13],[4,3,7,3],[4,4,7,4],[4,5,7,5],[4,6,7,6],[4,7,6,8],[4,9,6,10],[4,11,6,12],[20,0,20,1]]}
["Форма мониторинга \nфизической подготовленности обучающихся в сфере образования Российской Федерации"]
["№ строки","Класс","Всего обучающихся в общеобразовательной организации","Из них с основной группой здоровья  ",null,"Количество \nсдавших тест \n(от общей численности обучающихся с основной группой здоровья)\n",null,"Уровень физической подготовленности                                      (количество сдавших тесты с основной группой здоровья)",{"$nulls":5},"Проверка данных"]
[]
[]
[{"$nulls":3},"Кол-во","%                                (от общей численности обучающихся) ","Кол-во","%","Низкий",null,"Средний",null,"Высокий"]
[]
[]
[{"$nulls":7},"Кол-во","%","Кол-во","%","Кол-во","%"]
[null,1,2,3,4,5,6,7,8,9,10,11,12,13]
[1,1,3,3,{"$f":"D10/C10","v":{"v":1,"d":"100.00%"}},{"$f":"SUM(H10+J10+L10)","v":3},{"$f":"F10/D10","v":{"v":1,"d":"100.00%"}},{"$f":"'[11]1 класс'!J2","v":3},{"$f":"H10/F10","v":{"v":1,"d":"100.00%"}},{"$f":"'[11]1 класс'!K2","v":0},{"$f":"J10/F10","v":{"v":0,"d":"0.00%"}},{"$f":"'[11]1 класс'!L2","v":0},{"$f":"L10/F10","v":{"v":0,"d":"0.00%"}},{"$f":"IF((H10+J10+L10)>D10,\"ОШИБКА\",\"\")","v":""}]
[2,2,3,3,{"$f":"D11/C11","v":{"v":1,"d":"100.00%"}},{"$f":"SUM(H11+J11+L11)","v":3},{"$f":"F11/D11","v":{"v":1,"d":"100.00%"}},{"$f":"'[11]2 класс'!J2","v":3},{"$f":"H11/F11","v":{"v":1,"d":"100.00%"}},{"$f":"'[11]2 класс'!K2","v":0},{"$f":"J11/F11","v":{"v":0,"d":"0.00%"}},{"$f":"'[11]2 класс'!L2","v":0},{"$f":"L11/F11","v":{"v":0,"d":"0.00%"}},{"$f":"IF((H11+J11+L11)>D11,\"ОШИБКА\",\"\")","v":""}]
[3,3,6,6,{"v":1,"d":"100.00%"},6,{"v":1,"d":"100.00%"},{"$f":"'[11]3 класс'!J2","v":6},{"v":1,"d":"100.00%"},{"$f":"'[11]3 класс'!K2","v":0},{"v":0,"d":"0.00%"},{"$f":"'[11]3 класс'!L2","v":0},{"v":0,"d":"0.00%"},""]
[4,4,6,6,{"v":1,"d":"100.00%"},6,{"v":1,"d":"100.00%"},{"$f":"'[11]4 класс'!K2","v":6},{"v":1,"d":"100.00%"},{"$f":"'[11]4 класс'!L2","v":0},{"v":0,"d":"0.00%"},{"$f":"'[11]4 класс'!M2","v":0},{"v":0,"d":"0.00%"},""]
[5,5,2,2,{"v":1,"d":"100.00%"},2,{"v":1,"d":"100.00%"},{"$f":"'[11]5 класс'!L2","v":2},{"v":1,"d":"100.00%"},{"$f":"'[11]5 класс'!M2","v":0},{"v":0,"d":"0.00%"},{"$f":"'[11]5 класс'!N2","v":0},{"v":0,"d":"0.00%"},""]
[6,6,4,4,{"v":1,"d":"100.00%"},4,{"v":1,"d":"100.00%"},{"$f":"'[11]6 класс'!L2","v":4},{"v":1,"d":"100.00%"},{"$f":"'[11]6 класс'!M2","v":0},{"v":0,"d":"0.00%"},{"$f":"'[11]6 класс'!N2","v":0},{"v":0,"d":"0.00%"},""]
[7,7,3,3,{"v":1,"d":"100.00%"},3,{"v":1,"d":"100.00%"},{"$f":"'[11]7 класс'!L2","v":3},{"v":1,"d":"100.00%"},{"$f":"'[11]7 класс'!M2","v":0},{"v":0,"d":"0.00%"},{"$f":"'[11]7 класс'!N2","v":0},{"v":0,"d":"0.00%"},""]
[8,8,8,8,{"v":1,"d":"100.00%"},8,{"v":1,"d":"100.00%"},{"$f":"'[11]8 класс'!L2","v":4},{"v":0.5,"d":"50.00%"},{"$f":"'[11]8 класс'!M2","v":4},{"v":0.5,"d":"50.00%"},{"$f":"'[11]8 класс'!N2","v":0},{"v":0,"d":"0.00%"},""]
[9,9,11,11,{"v":1,"d":"100.00%"},11,{"v":1,"d":"100.00%"},{"$f":"'[11]9 класс'!L2","v":7},{"v":0.6363636363636364,"d":"63.64%"},{"$f":"'[11]9 класс'!M2","v":4},{"v":0.36363636363636365,"d":"36.36%"},{"$f":"'[11]9 класс'!N2","v":0},{"v":0,"d":"0.00%"},""]
[10,10,null,null,{"$error":"#DIV/0!"},0,{"$error":"#DIV/0!"},{"$f":"'[11]10 класс'!L2","v":0},{"$error":"#DIV/0!"},{"$f":"'[11]10 класс'!M2","v":0},{"$error":"#DIV/0!"},{"$f":"'[11]10 класс'!N2","v":0},{"$error":"#DIV/0!"},""]
[11,11,null,null,{"$error":"#DIV/0!"},0,{"$error":"#DIV/0!"},{"$f":"'[11]11 класс'!L2","v":0},{"$error":"#DIV/0!"},{"$f":"'[11]11 класс'!M2","v":0},{"$error":"#DIV/0!"},{"$f":"'[11]11 класс'!N2","v":0},{"$error":"#DIV/0!"},""]
["Всего",null,{"$f":"SUM(C10:C20)","v":46},{"$f":"SUM(D10:D20)","v":46},{"v":1,"d":"100.00%"},{"$f":"SUM(F10:F20)","v":46},{"v":1,"d":"100.00%"},{"$f":"SUM(H10:H20)","v":38},{"v":0.8260869565217391,"d":"82.61%"},{"$f":"SUM(J10:J20)","v":8},{"v":0.17391304347826086,"d":"17.39%"},{"$f":"SUM(L10:L20)","v":0},{"v":0,"d":"0.00%"},""]

{"sheet":"Ал.слоб","index":19,"n_rows":21,"n_cols":14,"rows_kept":21,"merged":[[0,0,0,13],[1,0,8,0],[1,1,7,1],[1,2,7,2],[1,3,3,4],[1,5,3,6],[1,7,3,12],[1,13,7,13],[4,3,7,3],[4,4,7,4],[4,5,7,5],[4,6,7,6],[4,7,6,8],[4,9,6,10],[4,11,6,12],[20,0,20,1]]}
["Форма мониторинга \nфизической подготовленности обучающихся в сфере образования Российской Федерации"]
["№ строки","Класс","Всего обучающихся в общеобразовательной организации","Из них с основной группой здоровья  ",null,"Количество \nсдавших тест \n(от общей численности обучающихся с основной группой здоровья)\n",null,"Уровень физической подготовленности                                      (количество сдавших тесты с основной группой здоровья)",{"$nulls":5},"Проверка данных"]
[]
[]
[{"$nulls":3},"Кол-во","%                                (от общей численности обучающихся) ","Кол-во","%","Низкий",null,"Средний",null,"Высокий"]
[]
[]
[{"$nulls":7},"Кол-во","%","Кол-во","%","Кол-во","%"]
[null,1,2,3,4,5,6,7,8,9,10,11,12,13]
[1,1,6,6,{"$f":"D10/C10","v":{"v":1,"d":"100.00%"}},{"$f":"SUM(H10+J10+L10)","v":6},{"$f":"F10/D10","v":{"v":1,"d":"100.00%"}},{"$f":"'[6]1 класс'!J2","v":0},{"$f":"H10/F10","v":{"v":0,"d":"0.00%"}},{"$f":"'[6]1 класс'!K2","v":6},{"$f":"J10/F10","v":{"v":1,"d":"100.00%"}},{"$f":"'[6]1 класс'!L2","v":0},{"$f":"L10/F10","v":{"v":0,"d":"0.00%"}},{"$f":"IF((H10+J10+L10)>D10,\"ОШИБКА\",\"\")","v":""}]
[2,2,11,11,{"$f":"D11/C11","v":{"v":1,"d":"100.00%"}},{"$f":"SUM(H11+J11+L11)","v":11},{"$f":"F11/D11","v":{"v":1,"d":"100.00%"}},{"$f":"'[6]2 класс'!J2","v":1},{"$f":"H11/F11","v":{"v":0.09090909090909091,"d":"9.09%"}},{"$f":"'[6]2 класс'!K2","v":8},{"$f":"J11/F11","v":{"v":0.7272727272727273,"d":"72.73%"}},{"$f":"'[6]2 класс'!L2","v":2},{"$f":"L11/F11","v":{"v":0.18181818181818182,"d":"18.18%"}},{"$f":"IF((H11+J11+L11)>D11,\"ОШИБКА\",\"\")","v":""}]
[3,3,7,7,{"v":1,"d":"100.00%"},7,{"v":1,"d":"100.00%"},{"$f":"'[6]3 класс'!J2","v":0},{"v":0,"d":"0.00%"},{"$f":"'[6]3 класс'!K2","v":6},{"v":0.8571428571428571,"d":"85.71%"},{"$f":"'[6]3 класс'!L2","v":1},{"v":0.14285714285714285,"d":"14.29%"},""]
[4,4,6,6,{"v":1,"d":"100.00%"},6,{"v":1,"d":"100.00%"},{"$f":"'[6]4 класс'!K2","v":0},{"v":0,"d":"0.00%"},{"$f":"'[6]4 класс'!L2","v":6},{"v":1,"d":"100.00%"},{"$f":"'[6]4 класс'!M2","v":0},{"v":0,"d":"0.00%"},""]
[5,5,13,13,{"v":1,"d":"100.00%"},13,{"v":1,"d":"100.00%"},{"$f":"'[6]5 класс'!L2","v":0},{"v":0,"d":"0.00%"},{"$f":"'[6]5 класс'!M2","v":9},{"v":0.6923076923076923,"d":"69.23%"},{"$f":"'[6]5 класс'!N2","v":4},{"v":0.3076923076923077,"d":"30.77%"},""]
[6,6,4,4,{"v":1,"d":"100.00%"},4,{"v":1,"d":"100.00%"},{"$f":"'[6]6 класс'!L2","v":0},{"v":0,"d":"0.00%"},{"$f":"'[6]6 класс'!M2","v":4},{"v":1,"d":"100.00%"},{"$f":"'[6]6 класс'!N2","v":0},{"v":0,"d":"0.00%"},""]
[7,7,6,6,{"v":1,"d":"100.00%"},6,{"v":1,"d":"100.00%"},{"$f":"'[6]7 класс'!L2","v":0},{"v":0,"d":"0.00%"},{"$f":"'[6]7 класс'!M2","v":6},{"v":1,"d":"100.00%"},{"$f":"'[6]7 класс'!N2","v":0},{"v":0,"d":"0.00%"},""]
[8,8,8,6,{"v":0.75,"d":"75.00%"},7,{"v":1.1666666666666667,"d":"116.67%"},{"$f":"'[6]8 класс'!L2","v":0},{"v":0,"d":"0.00%"},{"$f":"'[6]8 класс'!M2","v":4},{"v":0.5714285714285714,"d":"57.14%"},{"$f":"'[6]8 класс'!N2","v":3},{"v":0.42857142857142855,"d":"42.86%"},"ОШИБКА"]
[9,9,5,5,{"v":1,"d":"100.00%"},5,{"v":1,"d":"100.00%"},{"$f":"'[6]9 класс'!L2","v":0},{"v":0,"d":"0.00%"},{"$f":"'[6]9 класс'!M2","v":5},{"v":1,"d":"100.00%"},{"$f":"'[6]9 класс'!N2","v":0},{"v":0,"d":"0.00%"},""]
[10,10,null,null,{"$error":"#DIV/0!"},0,{"$error":"#DIV/0!"},{"$f":"'[6]10 класс'!L2","v":0},{"$error":"#DIV/0!"},{"$f":"'[6]10 класс'!M2","v":0},{"$error":"#DIV/0!"},{"$f":"'[6]10 класс'!N2","v":0},{"$error":"#DIV/0!"},""]
[11,11,null,null,{"$error":"#DIV/0!"},0,{"$error":"#DIV/0!"},{"$f":"'[6]11 класс'!L2","v":0},{"$error":"#DIV/0!"},{"$f":"'[6]11 класс'!M2","v":0},{"$error":"#DIV/0!"},{"$f":"'[6]11 класс'!N2","v":0},{"$error":"#DIV/0!"},""]
["Всего",null,{"$f":"SUM(C10:C20)","v":66},{"$f":"SUM(D10:D20)","v":64},{"v":0.9696969696969697,"d":"96.97%"},{"$f":"SUM(F10:F20)","v":65},{"v":1.015625,"d":"101.56%"},{"$f":"SUM(H10:H20)","v":1},{"v":0.015384615384615385,"d":"1.54%"},{"$f":"SUM(J10:J20)","v":54},{"v":0.8307692307692308,"d":"83.08%"},{"$f":"SUM(L10:L20)","v":10},{"v":0.15384615384615385,"d":"15.38%"},"ОШИБКА"]

{"sheet":"Светлое","index":20,"n_rows":21,"n_cols":14,"rows_kept":21,"merged":[[0,0,0,13],[1,0,8,0],[1,1,7,1],[1,2,7,2],[1,3,3,4],[1,5,3,6],[1,7,3,12],[1,13,7,13],[4,3,7,3],[4,4,7,4],[4,5,7,5],[4,6,7,6],[4,7,6,8],[4,9,6,10],[4,11,6,12],[20,0,20,1]]}
["Форма мониторинга \nфизической подготовленности обучающихся в сфере образования Российской Федерации"]
["№ строки","Класс","Всего обучающихся в общеобразовательной организации","Из них с основной группой здоровья  ",null,"Количество \nсдавших тест \n(от общей численности обучающихся с основной группой здоровья)\n",null,"Уровень физической подготовленности                                      (количество сдавших тесты с основной группой здоровья)",{"$nulls":5},"Проверка данных"]
[]
[]
[{"$nulls":3},"Кол-во","%                                (от общей численности обучающихся) ","Кол-во","%","Низкий",null,"Средний",null,"Высокий"]
[]
[]
[{"$nulls":7},"Кол-во","%","Кол-во","%","Кол-во","%"]
[null,1,2,3,4,5,6,7,8,9,10,11,12,13]
[1,1,4,4,{"$f":"D10/C10","v":{"v":1,"d":"100.00%"}},{"$f":"SUM(H10+J10+L10)","v":4},{"$f":"F10/D10","v":{"v":1,"d":"100.00%"}},{"$f":"'[7]1 класс'!J2","v":0},{"$f":"H10/F10","v":{"v":0,"d":"0.00%"}},{"$f":"'[7]1 класс'!K2","v":3},{"$f":"J10/F10","v":{"v":0.75,"d":"75.00%"}},{"$f":"'[7]1 класс'!L2","v":1},{"$f":"L10/F10","v":{"v":0.25,"d":"25.00%"}},{"$f":"IF((H10+J10+L10)>D10,\"ОШИБКА\",\"\")","v":""}]
[2,2,7,7,{"$f":"D11/C11","v":{"v":1,"d":"100.00%"}},{"$f":"SUM(H11+J11+L11)","v":7},{"$f":"F11/D11","v":{"v":1,"d":"100.00%"}},{"$f":"'[7]2 класс'!J2","v":0},{"$f":"H11/F11","v":{"v":0,"d":"0.00%"}},{"$f":"'[7]2 класс'!K2","v":5},{"$f":"J11/F11","v":{"v":0.7142857142857143,"d":"71.43%"}},{"$f":"'[7]2 класс'!L2","v":2},{"$f":"L11/F11","v":{"v":0.2857142857142857,"d":"28.57%"}},{"$f":"IF((H11+J11+L11)>D11,\"ОШИБКА\",\"\")","v":""}]
[3,3,2,2,{"v":1,"d":"100.00%"},2,{"v":1,"d":"100.00%"},{"$f":"'[7]3 класс'!J2","v":0},{"v":0,"d":"0.00%"},{"$f":"'[7]3 класс'!K2","v":1},{"v":0.5,"d":"50.00%"},{"$f":"'[7]3 класс'!L2","v":1},{"v":0.5,"d":"50.00%"},""]
[4,4,3,4,{"v":1.3333333333333333,"d":"133.33%"},4,{"v":1,"d":"100.00%"},{"$f":"'[7]4 класс'!K2","v":2},{"v":0.5,"d":"50.00%"},{"$f":"'[7]4 класс'!L2","v":2},{"v":0.5,"d":"50.00%"},{"$f":"'[7]4 класс'!M2","v":0},{"v":0,"d":"0.00%"},""]
[5,5,5,5,{"v":1,"d":"100.00%"},5,{"v":1,"d":"100.00%"},{"$f":"'[7]5 класс'!L2","v":4},{"v":0.8,"d":"80.00%"},{"$f":"'[7]5 класс'!M2","v":1},{"v":0.2,"d":"20.00%"},{"$f":"'[7]5 класс'!N2","v":0},{"v":0,"d":"0.00%"},""]
[6,6,4,3,{"v":0.75,"d":"75.00%"},3,{"v":1,"d":"100.00%"},{"$f":"'[7]6 класс'!L2","v":2},{"v":0.6666666666666666,"d":"66.67%"},{"$f":"'[7]6 класс'!M2","v":1},{"v":0.3333333333333333,"d":"33.33%"},{"$f":"'[7]6 класс'!N2","v":0},{"v":0,"d":"0.00%"},""]
[7,7,5,5,{"v":1,"d":"100.00%"},5,{"v":1,"d":"100.00%"},{"$f":"'[7]7 класс'!L2","v":2},{"v":0.4,"d":"40.00%"},{"$f":"'[7]7 класс'!M2","v":2},{"v":0.4,"d":"40.00%"},{"$f":"'[7]7 класс'!N2","v":1},{"v":0.2,"d":"20.00%"},""]
[8,8,8,7,{"v":0.875,"d":"87.50%"},7,{"v":1,"d":"100.00%"},{"$f":"'[7]8 класс'!L2","v":1},{"v":0.14285714285714285,"d":"14.29%"},{"$f":"'[7]8 класс'!M2","v":4},{"v":0.5714285714285714,"d":"57.14%"},{"$f":"'[7]8 класс'!N2","v":2},{"v":0.2857142857142857,"d":"28.57%"},""]
[9,9,8,7,{"v":0.875,"d":"87.50%"},7,{"v":1,"d":"100.00%"},{"$f":"'[7]9 класс'!L2","v":0},{"v":0,"d":"0.00%"},{"$f":"'[7]9 класс'!M2","v":4},{"v":0.5714285714285714,"d":"57.14%"},{"$f":"'[7]9 класс'!N2","v":3},{"v":0.42857142857142855,"d":"42.86%"},""]
[10,10,0,0,{"$error":"#DIV/0!"},0,{"$error":"#DIV/0!"},{"$f":"'[7]10 класс'!L2","v":0},{"$error":"#DIV/0!"},{"$f":"'[7]10 класс'!M2","v":0},{"$error":"#DIV/0!"},{"$f":"'[7]10 класс'!N2","v":0},{"$error":"#DIV/0!"},""]
[11,11,0,0,{"$error":"#DIV/0!"},0,{"$error":"#DIV/0!"},{"$f":"'[7]11 класс'!L2","v":0},{"$error":"#DIV/0!"},{"$f":"'[7]11 класс'!M2","v":0},{"$error":"#DIV/0!"},{"$f":"'[7]11 класс'!N2","v":0},{"$error":"#DIV/0!"},""]
["Всего",null,{"$f":"SUM(C10:C20)","v":46},{"$f":"SUM(D10:D20)","v":44},{"v":0.9565217391304348,"d":"95.65%"},{"$f":"SUM(F10:F20)","v":44},{"v":1,"d":"100.00%"},{"$f":"SUM(H10:H20)","v":11},{"v":0.25,"d":"25.00%"},{"$f":"SUM(J10:J20)","v":23},{"v":0.5227272727272727,"d":"52.27%"},{"$f":"SUM(L10:L20)","v":10},{"v":0.22727272727272727,"d":"22.73%"},""]

{"sheet":"Бухарай","index":21,"n_rows":21,"n_cols":14,"rows_kept":21,"merged":[[0,0,0,13],[1,0,8,0],[1,1,7,1],[1,2,7,2],[1,3,3,4],[1,5,3,6],[1,7,3,12],[1,13,7,13],[4,3,7,3],[4,4,7,4],[4,5,7,5],[4,6,7,6],[4,7,6,8],[4,9,6,10],[4,11,6,12],[20,0,20,1]]}
["Форма мониторинга \nфизической подготовленности обучающихся в сфере образования Российской Федерации"]
["№ строки","Класс","Всего обучающихся в общеобразовательной организации","Из них с основной группой здоровья  ",null,"Количество \nсдавших тест \n(от общей численности обучающихся с основной группой здоровья)\n",null,"Уровень физической подготовленности                                      (количество сдавших тесты с основной группой здоровья)",{"$nulls":5},"Проверка данных"]
[]
[]
[{"$nulls":3},"Кол-во","%                                (от общей численности обучающихся) ","Кол-во","%","Низкий",null,"Средний",null,"Высокий"]
[]
[]
[{"$nulls":7},"Кол-во","%","Кол-во","%","Кол-во","%"]
[null,1,2,3,4,5,6,7,8,9,10,11,12,13]
[1,1,3,3,{"$f":"D10/C10","v":{"v":1,"d":"100.00%"}},{"$f":"SUM(H10+J10+L10)","v":3},{"$f":"F10/D10","v":{"v":1,"d":"100.00%"}},{"$f":"'[8]1 класс'!J2","v":1},{"$f":"H10/F10","v":{"v":0.3333333333333333,"d":"33.33%"}},{"$f":"'[8]1 класс'!K2","v":2},{"$f":"J10/F10","v":{"v":0.6666666666666666,"d":"66.67%"}},{"$f":"'[8]1 класс'!L2","v":0},{"$f":"L10/F10","v":{"v":0,"d":"0.00%"}},{"$f":"IF((H10+J10+L10)>D10,\"ОШИБКА\",\"\")","v":""}]
[2,2,9,7,{"$f":"D11/C11","v":{"v":0.7777777777777778,"d":"77.78%"}},{"$f":"SUM(H11+J11+L11)","v":7},{"$f":"F11/D11","v":{"v":1,"d":"100.00%"}},{"$f":"'[8]2 класс'!J2","v":0},{"$f":"H11/F11","v":{"v":0,"d":"0.00%"}},{"$f":"'[8]2 класс'!K2","v":5},{"$f":"J11/F11","v":{"v":0.7142857142857143,"d":"71.43%"}},{"$f":"'[8]2 класс'!L2","v":2},{"$f":"L11/F11","v":{"v":0.2857142857142857,"d":"28.57%"}},{"$f":"IF((H11+J11+L11)>D11,\"ОШИБКА\",\"\")","v":""}]
[3,3,6,4,{"v":0.6666666666666666,"d":"66.67%"},4,{"v":1,"d":"100.00%"},{"$f":"'[8]3 класс'!J2","v":1},{"v":0.25,"d":"25.00%"},{"$f":"'[8]3 класс'!K2","v":3},{"v":0.75,"d":"75.00%"},{"$f":"'[8]3 класс'!L2","v":0},{"v":0,"d":"0.00%"},""]
[4,4,5,5,{"v":1,"d":"100.00%"},5,{"v":1,"d":"100.00%"},{"$f":"'[8]4 класс'!K2","v":1},{"v":0.2,"d":"20.00%"},{"$f":"'[8]4 класс'!L2","v":3},{"v":0.6,"d":"60.00%"},{"$f":"'[8]4 класс'!M2","v":1},{"v":0.2,"d":"20.00%"},""]
[5,5,6,5,{"v":0.8333333333333334,"d":"83.33%"},5,{"v":1,"d":"100.00%"},{"$f":"'[8]5 класс'!L2","v":0},{"v":0,"d":"0.00%"},{"$f":"'[8]5 класс'!M2","v":4},{"v":0.8,"d":"80.00%"},{"$f":"'[8]5 класс'!N2","v":1},{"v":0.2,"d":"20.00%"},""]
[6,6,7,6,{"v":0.8571428571428571,"d":"85.71%"},6,{"v":1,"d":"100.00%"},{"$f":"'[8]6 класс'!L2","v":0},{"v":0,"d":"0.00%"},{"$f":"'[8]6 класс'!M2","v":5},{"v":0.8333333333333334,"d":"83.33%"},{"$f":"'[8]6 класс'!N2","v":1},{"v":0.16666666666666666,"d":"16.67%"},""]
[7,7,6,5,{"v":0.8333333333333334,"d":"83.33%"},5,{"v":1,"d":"100.00%"},{"$f":"'[8]7 класс'!L2","v":0},{"v":0,"d":"0.00%"},{"$f":"'[8]7 класс'!M2","v":4},{"v":0.8,"d":"80.00%"},{"$f":"'[8]7 класс'!N2","v":1},{"v":0.2,"d":"20.00%"},""]
[8,8,4,4,{"v":1,"d":"100.00%"},4,{"v":1,"d":"100.00%"},{"$f":"'[8]8 класс'!L2","v":0},{"v":0,"d":"0.00%"},{"$f":"'[8]8 класс'!M2","v":3},{"v":0.75,"d":"75.00%"},{"$f":"'[8]8 класс'!N2","v":1},{"v":0.25,"d":"25.00%"},""]
[9,9,10,10,{"v":1,"d":"100.00%"},10,{"v":1,"d":"100.00%"},{"$f":"'[8]9 класс'!L2","v":0},{"v":0,"d":"0.00%"},{"$f":"'[8]9 класс'!M2","v":9},{"v":0.9,"d":"90.00%"},{"$f":"'[8]9 класс'!N2","v":1},{"v":0.1,"d":"10.00%"},""]
[10,10,null,null,{"$error":"#DIV/0!"},0,{"$error":"#DIV/0!"},{"$f":"'[8]10 класс'!L2","v":0},{"$error":"#DIV/0!"},{"$f":"'[8]10 класс'!M2","v":0},{"$error":"#DIV/0!"},{"$f":"'[8]10 класс'!N2","v":0},{"$error":"#DIV/0!"},""]
[11,11,null,null,{"$error":"#DIV/0!"},0,{"$error":"#DIV/0!"},{"$f":"'[8]11 класс'!L2","v":0},{"$error":"#DIV/0!"},{"$f":"'[8]11 класс'!M2","v":0},{"$error":"#DIV/0!"},{"$f":"'[8]11 класс'!N2","v":0},{"$error":"#DIV/0!"},""]
["Всего",null,{"$f":"SUM(C10:C20)","v":56},{"$f":"SUM(D10:D20)","v":49},{"v":0.875,"d":"87.50%"},{"$f":"SUM(F10:F20)","v":49},{"v":1,"d":"100.00%"},{"$f":"SUM(H10:H20)","v":3},{"v":0.061224489795918366,"d":"6.12%"},{"$f":"SUM(J10:J20)","v":38},{"v":0.7755102040816326,"d":"77.55%"},{"$f":"SUM(L10:L20)","v":8},{"v":0.16326530612244897,"d":"16.33%"},""]

{"sheet":"Сарсаз","index":22,"n_rows":21,"n_cols":14,"rows_kept":21,"merged":[[0,0,0,13],[1,0,8,0],[1,1,7,1],[1,2,7,2],[1,3,3,4],[1,5,3,6],[1,7,3,12],[1,13,7,13],[4,3,7,3],[4,4,7,4],[4,5,7,5],[4,6,7,6],[4,7,6,8],[4,9,6,10],[4,11,6,12],[20,0,20,1]]}
["Форма мониторинга \nфизической подготовленности обучающихся в сфере образования Российской Федерации"]
["№ строки","Класс","Всего обучающихся в общеобразовательной организации","Из них с основной группой здоровья  ",null,"Количество \nсдавших тест \n(от общей численности обучающихся с основной группой здоровья)\n",null,"Уровень физической подготовленности                                      (количество сдавших тесты с основной группой здоровья)",{"$nulls":5},"Проверка данных"]
[]
[]
[{"$nulls":3},"Кол-во","%                                (от общей численности обучающихся) ","Кол-во","%","Низкий",null,"Средний",null,"Высокий"]
[]
[]
[{"$nulls":7},"Кол-во","%","Кол-во","%","Кол-во","%"]
[null,1,2,3,4,5,6,7,8,9,10,11,12,13]
[1,1,3,2,{"$f":"D10/C10","v":{"v":0.6666666666666666,"d":"66.67%"}},{"$f":"SUM(H10+J10+L10)","v":2},{"$f":"F10/D10","v":{"v":1,"d":"100.00%"}},{"$f":"'[9]1 класс'!J2","v":0},{"$f":"H10/F10","v":{"v":0,"d":"0.00%"}},{"$f":"'[9]1 класс'!K2","v":2},{"$f":"J10/F10","v":{"v":1,"d":"100.00%"}},{"$f":"'[9]1 класс'!L2","v":0},{"$f":"L10/F10","v":{"v":0,"d":"0.00%"}},{"$f":"IF((H10+J10+L10)>D10,\"ОШИБКА\",\"\")","v":""}]
[2,2,3,2,{"$f":"D11/C11","v":{"v":0.6666666666666666,"d":"66.67%"}},{"$f":"SUM(H11+J11+L11)","v":2},{"$f":"F11/D11","v":{"v":1,"d":"100.00%"}},{"$f":"'[9]2 класс'!J2","v":1},{"$f":"H11/F11","v":{"v":0.5,"d":"50.00%"}},{"$f":"'[9]2 класс'!K2","v":1},{"$f":"J11/F11","v":{"v":0.5,"d":"50.00%"}},{"$f":"'[9]2 класс'!L2","v":0},{"$f":"L11/F11","v":{"v":0,"d":"0.00%"}},{"$f":"IF((H11+J11+L11)>D11,\"ОШИБКА\",\"\")","v":""}]
[3,3,2,2,{"v":1,"d":"100.00%"},2,{"v":1,"d":"100.00%"},{"$f":"'[9]3 класс'!J2","v":0},{"v":0,"d":"0.00%"},{"$f":"'[9]3 класс'!K2","v":2},{"v":1,"d":"100.00%"},{"$f":"'[9]3 класс'!L2","v":0},{"v":0,"d":"0.00%"},""]
[4,4,1,1,{"v":1,"d":"100.00%"},1,{"v":1,"d":"100.00%"},{"$f":"'[9]4 класс'!K2","v":0},{"v":0,"d":"0.00%"},{"$f":"'[9]4 класс'!L2","v":1},{"v":1,"d":"100.00%"},{"$f":"'[9]4 класс'!M2","v":0},{"v":0,"d":"0.00%"},""]
[5,5,2,2,{"v":1,"d":"100.00%"},2,{"v":1,"d":"100.00%"},{"$f":"'[9]5 класс'!L2","v":0},{"v":0,"d":"0.00%"},{"$f":"'[9]5 класс'!M2","v":2},{"v":1,"d":"100.00%"},{"$f":"'[9]5 класс'!N2","v":0},{"v":0,"d":"0.00%"},""]
[6,6,2,2,{"v":1,"d":"100.00%"},2,{"v":1,"d":"100.00%"},{"$f":"'[9]6 класс'!L2","v":0},{"v":0,"d":"0.00%"},{"$f":"'[9]6 класс'!M2","v":2},{"v":1,"d":"100.00%"},{"$f":"'[9]6 класс'!N2","v":0},{"v":0,"d":"0.00%"},""]
[7,7,7,6,{"v":0.8571428571428571,"d":"85.71%"},6,{"v":1,"d":"100.00%"},{"$f":"'[9]7 класс'!L2","v":0},{"v":0,"d":"0.00%"},{"$f":"'[9]7 класс'!M2","v":5},{"v":0.8333333333333334,"d":"83.33%"},{"$f":"'[9]7 класс'!N2","v":1},{"v":0.16666666666666666,"d":"16.67%"},""]
[8,8,3,3,{"v":1,"d":"100.00%"},3,{"v":1,"d":"100.00%"},{"$f":"'[9]8 класс'!L2","v":0},{"v":0,"d":"0.00%"},{"$f":"'[9]8 класс'!M2","v":3},{"v":1,"d":"100.00%"},{"$f":"'[9]8 класс'!N2","v":0},{"v":0,"d":"0.00%"},""]
[9,9,8,6,{"v":0.75,"d":"75.00%"},6,{"v":1,"d":"100.00%"},{"$f":"'[9]9 класс'!L2","v":1},{"v":0.16666666666666666,"d":"16.67%"},{"$f":"'[9]9 класс'!M2","v":4},{"v":0.6666666666666666,"d":"66.67%"},{"$f":"'[9]9 класс'!N2","v":1},{"v":0.16666666666666666,"d":"16.67%"},""]
[10,10,null,null,{"$error":"#DIV/0!"},0,{"$error":"#DIV/0!"},{"$f":"'[9]10 класс'!L2","v":0},{"$error":"#DIV/0!"},{"$f":"'[9]10 класс'!M2","v":0},{"$error":"#DIV/0!"},{"$f":"'[9]10 класс'!N2","v":0},{"$error":"#DIV/0!"},""]
[11,11,null,null,{"$error":"#DIV/0!"},0,{"$error":"#DIV/0!"},{"$f":"'[9]11 класс'!L2","v":0},{"$error":"#DIV/0!"},{"$f":"'[9]11 класс'!M2","v":0},{"$error":"#DIV/0!"},{"$f":"'[9]11 класс'!N2","v":0},{"$error":"#DIV/0!"},""]
["Всего",null,{"$f":"SUM(C10:C20)","v":31},{"$f":"SUM(D10:D20)","v":26},{"v":0.8387096774193549,"d":"83.87%"},{"$f":"SUM(F10:F20)","v":26},{"v":1,"d":"100.00%"},{"$f":"SUM(H10:H20)","v":2},{"v":0.07692307692307693,"d":"7.69%"},{"$f":"SUM(J10:J20)","v":22},{"v":0.8461538461538461,"d":"84.62%"},{"$f":"SUM(L10:L20)","v":2},{"v":0.07692307692307693,"d":"7.69%"},""]

{"sheet":"Чубуклы","index":23,"n_rows":21,"n_cols":14,"rows_kept":21,"merged":[[0,0,0,13],[1,0,8,0],[1,1,7,1],[1,2,7,2],[1,3,3,4],[1,5,3,6],[1,7,3,12],[1,13,7,13],[4,3,7,3],[4,4,7,4],[4,5,7,5],[4,6,7,6],[4,7,6,8],[4,9,6,10],[4,11,6,12],[20,0,20,1]]}
["Форма мониторинга \nфизической подготовленности обучающихся в сфере образования Российской Федерации"]
["№ строки","Класс","Всего обучающихся в общеобразовательной организации","Из них с основной группой здоровья  ",null,"Количество \nсдавших тест \n(от общей численности обучающихся с основной группой здоровья)\n",null,"Уровень физической подготовленности                                      (количество сдавших тесты с основной группой здоровья)",{"$nulls":5},"Проверка данных"]
[]
[]
[{"$nulls":3},"Кол-во","%                                (от общей численности обучающихся) ","Кол-во","%","Низкий",null,"Средний",null,"Высокий"]
[]
[]
[{"$nulls":7},"Кол-во","%","Кол-во","%","Кол-во","%"]
[null,1,2,3,4,5,6,7,8,9,10,11,12,13]
[1,1,4,3,{"$f":"D10/C10","v":{"v":0.75,"d":"75.00%"}},{"$f":"SUM(H10+J10+L10)","v":3},{"$f":"F10/D10","v":{"v":1,"d":"100.00%"}},{"$f":"'[10]1 класс'!J2","v":0},{"$f":"H10/F10","v":{"v":0,"d":"0.00%"}},{"$f":"'[10]1 класс'!K2","v":3},{"$f":"J10/F10","v":{"v":1,"d":"100.00%"}},{"$f":"'[10]1 класс'!L2","v":0},{"$f":"L10/F10","v":{"v":0,"d":"0.00%"}},{"$f":"IF((H10+J10+L10)>D10,\"ОШИБКА\",\"\")","v":""}]
[2,2,3,3,{"$f":"D11/C11","v":{"v":1,"d":"100.00%"}},{"$f":"SUM(H11+J11+L11)","v":3},{"$f":"F11/D11","v":{"v":1,"d":"100.00%"}},{"$f":"'[10]2 класс'!J2","v":0},{"$f":"H11/F11","v":{"v":0,"d":"0.00%"}},{"$f":"'[10]2 класс'!K2","v":3},{"$f":"J11/F11","v":{"v":1,"d":"100.00%"}},{"$f":"'[10]2 класс'!L2","v":0},{"$f":"L11/F11","v":{"v":0,"d":"0.00%"}},{"$f":"IF((H11+J11+L11)>D11,\"ОШИБКА\",\"\")","v":""}]
[3,3,2,2,{"v":1,"d":"100.00%"},2,{"v":1,"d":"100.00%"},{"$f":"'[10]3 класс'!J2","v":0},{"v":0,"d":"0.00%"},{"$f":"'[10]3 класс'!K2","v":1},{"v":0.5,"d":"50.00%"},{"$f":"'[10]3 класс'!L2","v":1},{"v":0.5,"d":"50.00%"},""]
[4,4,6,5,{"v":0.8333333333333334,"d":"83.33%"},5,{"v":1,"d":"100.00%"},{"$f":"'[10]4 класс'!K2","v":0},{"v":0,"d":"0.00%"},{"$f":"'[10]4 класс'!L2","v":4},{"v":0.8,"d":"80.00%"},{"$f":"'[10]4 класс'!M2","v":1},{"v":0.2,"d":"20.00%"},""]
[5,5,2,2,{"v":1,"d":"100.00%"},2,{"v":1,"d":"100.00%"},{"$f":"'[10]5 класс'!L2","v":0},{"v":0,"d":"0.00%"},{"$f":"'[10]5 класс'!M2","v":2},{"v":1,"d":"100.00%"},{"$f":"'[10]5 класс'!N2","v":0},{"v":0,"d":"0.00%"},""]
[6,6,3,2,{"v":0.6666666666666666,"d":"66.67%"},2,{"v":1,"d":"100.00%"},{"$f":"'[10]6 класс'!L2","v":0},{"v":0,"d":"0.00%"},{"$f":"'[10]6 класс'!M2","v":2},{"v":1,"d":"100.00%"},{"$f":"'[10]6 класс'!N2","v":0},{"v":0,"d":"0.00%"},""]
[7,7,6,5,{"v":0.8333333333333334,"d":"83.33%"},5,{"v":1,"d":"100.00%"},{"$f":"'[10]7 класс'!L2","v":0},{"v":0,"d":"0.00%"},{"$f":"'[10]7 класс'!M2","v":1},{"v":0.2,"d":"20.00%"},{"$f":"'[10]7 класс'!N2","v":4},{"v":0.8,"d":"80.00%"},""]
[8,8,3,3,{"v":1,"d":"100.00%"},3,{"v":1,"d":"100.00%"},{"$f":"'[10]8 класс'!L2","v":0},{"v":0,"d":"0.00%"},{"$f":"'[10]8 класс'!M2","v":1},{"v":0.3333333333333333,"d":"33.33%"},{"$f":"'[10]8 класс'!N2","v":2},{"v":0.6666666666666666,"d":"66.67%"},""]
[9,9,5,5,{"v":1,"d":"100.00%"},5,{"v":1,"d":"100.00%"},{"$f":"'[10]9 класс'!L2","v":0},{"v":0,"d":"0.00%"},{"$f":"'[10]9 класс'!M2","v":3},{"v":0.6,"d":"60.00%"},{"$f":"'[10]9 класс'!N2","v":2},{"v":0.4,"d":"40.00%"},""]
[10,10,0,0,{"$error":"#DIV/0!"},0,{"$error":"#DIV/0!"},{"$f":"'[10]10 класс'!L2","v":0},{"$error":"#DIV/0!"},{"$f":"'[10]10 класс'!M2","v":0},{"$error":"#DIV/0!"},{"$f":"'[10]10 класс'!N2","v":0},{"$error":"#DIV/0!"},""]
[11,11,0,0,{"$error":"#DIV/0!"},0,{"$error":"#DIV/0!"},{"$f":"'[10]11 класс'!L2","v":0},{"$error":"#DIV/0!"},{"$f":"'[10]11 класс'!M2","v":0},{"$error":"#DIV/0!"},{"$f":"'[10]11 класс'!N2","v":0},{"$error":"#DIV/0!"},""]
["Всего",null,{"$f":"SUM(C10:C20)","v":34},{"$f":"SUM(D10:D20)","v":30},{"v":0.8823529411764706,"d":"88.24%"},{"$f":"SUM(F10:F20)","v":30},{"v":1,"d":"100.00%"},{"$f":"SUM(H10:H20)","v":0},{"v":0,"d":"0.00%"},{"$f":"SUM(J10:J20)","v":20},{"v":0.6666666666666666,"d":"66.67%"},{"$f":"SUM(L10:L20)","v":10},{"v":0.3333333333333333,"d":"33.33%"},""]

{"sheet":"КОНЕЦ","index":24,"n_rows":0,"n_cols":0,"rows_kept":0,"merged":[[0,0,1048575,16383]]}